BEGIN:VCALENDAR
VERSION:2.0
PRODID:-//Freizeit - ECPv6.15.4//NONSGML v1.0//EN
CALSCALE:GREGORIAN
METHOD:PUBLISH
X-WR-CALNAME:Freizeit
X-ORIGINAL-URL:https://freizeit.hildesheimer-allgemeine.de
X-WR-CALDESC:Veranstaltungen im Freizeit
REFRESH-INTERVAL;VALUE=DURATION:PT1H
X-Robots-Tag:noindex
X-PUBLISHED-TTL:PT1H
BEGIN:VTIMEZONE
TZID:Europe/Berlin
BEGIN:DAYLIGHT
TZOFFSETFROM:+0100
TZOFFSETTO:+0200
TZNAME:CEST
DTSTART:20260329T010000
END:DAYLIGHT
BEGIN:STANDARD
TZOFFSETFROM:+0200
TZOFFSETTO:+0100
TZNAME:CET
DTSTART:20261025T010000
END:STANDARD
END:VTIMEZONE
BEGIN:VEVENT
DTSTART;TZID=Europe/Berlin:20260426T100000
DTEND;TZID=Europe/Berlin:20260426T160000
DTSTAMP:20260421T113924
CREATED:20260417T075931Z
LAST-MODIFIED:20260417T075934Z
UID:144782-1777197600-1777219200@freizeit.hildesheimer-allgemeine.de
SUMMARY:Dorf-Flohmarkt im Unterflecken Lamspringe
DESCRIPTION:Nach dem großen Erfolg im vergangenen Jahr findet am Sonntag\, 26. April 2026\, wieder ein Dorf-Flohmarkt im Unterflecken Lamspringe statt. Von 10 bis 16 Uhr laden zahlreiche Anwohner zu privaten Flohmarktständen auf ihren Grundstücken ein. \nBesucher können gemütlich durch das Dorf schlendern\, nach kleinen Schätzen stöbern und dabei mit Nachbarn und Besuchern ins Gespräch kommen. \nDie Organisatoren freuen sich auf viele Stände und einen bunten\, lebendigen Flohmarkttag für das ganze Dorf.
URL:https://freizeit.hildesheimer-allgemeine.de/veranstaltungskalender/dorf-flohmarkt-im-unterflecken-lamspringe/
LOCATION:Lamspringe\, 31195\, Deutschland
CATEGORIES:Basar & Messe
ATTACH;FMTTYPE=image/png:https://freizeit.hildesheimer-allgemeine.de/wp-content/uploads/2026/04/Screenshot-2026-04-17-095754.png
END:VEVENT
END:VCALENDAR