BEGIN:VCALENDAR
VERSION:2.0
PRODID:-//Freizeit - ECPv6.15.4//NONSGML v1.0//EN
CALSCALE:GREGORIAN
METHOD:PUBLISH
X-ORIGINAL-URL:https://freizeit.hildesheimer-allgemeine.de
X-WR-CALDESC:Veranstaltungen im Freizeit
REFRESH-INTERVAL;VALUE=DURATION:PT1H
X-Robots-Tag:noindex
X-PUBLISHED-TTL:PT1H
BEGIN:VTIMEZONE
TZID:Europe/Berlin
BEGIN:DAYLIGHT
TZOFFSETFROM:+0100
TZOFFSETTO:+0200
TZNAME:CEST
DTSTART:20260329T010000
END:DAYLIGHT
BEGIN:STANDARD
TZOFFSETFROM:+0200
TZOFFSETTO:+0100
TZNAME:CET
DTSTART:20261025T010000
END:STANDARD
END:VTIMEZONE
BEGIN:VEVENT
DTSTART;TZID=Europe/Berlin:20260415T200000
DTEND;TZID=Europe/Berlin:20260415T200000
DTSTAMP:20260422T023903
CREATED:20260212T152212Z
LAST-MODIFIED:20260212T152212Z
UID:144365-1776283200-1776283200@freizeit.hildesheimer-allgemeine.de
SUMMARY:SoKü - die SoliKüche
DESCRIPTION:Die SoliKüche kocht vegan.
URL:https://freizeit.hildesheimer-allgemeine.de/veranstaltungskalender/sokue-die-solikueche/2026-04-15/
LOCATION:Kulturfabrik Löseke\, kontakt@kufa.info / Langer Garten 1\, Hildesheim\, 31137\, Deutschland
CATEGORIES:Sonstige,Workshop
ATTACH;FMTTYPE=image/jpeg:https://freizeit.hildesheimer-allgemeine.de/wp-content/uploads/2017/04/feu-22-Kulturf_500-e1551794035363.jpg
END:VEVENT
BEGIN:VEVENT
DTSTART;TZID=Europe/Berlin:20260408T200000
DTEND;TZID=Europe/Berlin:20260408T200000
DTSTAMP:20260422T023903
CREATED:20260212T152212Z
LAST-MODIFIED:20260212T152212Z
UID:144364-1775678400-1775678400@freizeit.hildesheimer-allgemeine.de
SUMMARY:SoKü - die SoliKüche
DESCRIPTION:Die SoliKüche kocht vegan.
URL:https://freizeit.hildesheimer-allgemeine.de/veranstaltungskalender/sokue-die-solikueche/2026-04-08/
LOCATION:Kulturfabrik Löseke\, kontakt@kufa.info / Langer Garten 1\, Hildesheim\, 31137\, Deutschland
CATEGORIES:Sonstige,Workshop
ATTACH;FMTTYPE=image/jpeg:https://freizeit.hildesheimer-allgemeine.de/wp-content/uploads/2017/04/feu-22-Kulturf_500-e1551794035363.jpg
END:VEVENT
BEGIN:VEVENT
DTSTART;TZID=Europe/Berlin:20260401T200000
DTEND;TZID=Europe/Berlin:20260401T200000
DTSTAMP:20260422T023903
CREATED:20260212T152212Z
LAST-MODIFIED:20260212T152212Z
UID:144363-1775073600-1775073600@freizeit.hildesheimer-allgemeine.de
SUMMARY:SoKü - die SoliKüche
DESCRIPTION:Die SoliKüche kocht vegan.
URL:https://freizeit.hildesheimer-allgemeine.de/veranstaltungskalender/sokue-die-solikueche/2026-04-01/
LOCATION:Kulturfabrik Löseke\, kontakt@kufa.info / Langer Garten 1\, Hildesheim\, 31137\, Deutschland
CATEGORIES:Sonstige,Workshop
ATTACH;FMTTYPE=image/jpeg:https://freizeit.hildesheimer-allgemeine.de/wp-content/uploads/2017/04/feu-22-Kulturf_500-e1551794035363.jpg
END:VEVENT
BEGIN:VEVENT
DTSTART;TZID=Europe/Berlin:20260325T200000
DTEND;TZID=Europe/Berlin:20260325T200000
DTSTAMP:20260422T023903
CREATED:20260212T152212Z
LAST-MODIFIED:20260325T110442Z
UID:143373-1774468800-1774468800@freizeit.hildesheimer-allgemeine.de
SUMMARY:SoKü - die SoliKüche
DESCRIPTION:Die SoliKüche kocht vegan.
URL:https://freizeit.hildesheimer-allgemeine.de/veranstaltungskalender/sokue-die-solikueche/2026-03-25/
LOCATION:Kulturfabrik Löseke\, kontakt@kufa.info / Langer Garten 1\, Hildesheim\, 31137\, Deutschland
CATEGORIES:Sonstige,Workshop
ATTACH;FMTTYPE=image/jpeg:https://freizeit.hildesheimer-allgemeine.de/wp-content/uploads/2017/04/feu-22-Kulturf_500-e1551794035363.jpg
END:VEVENT
END:VCALENDAR