BEGIN:VCALENDAR
VERSION:2.0
PRODID:-//Freizeit - ECPv6.15.4//NONSGML v1.0//EN
CALSCALE:GREGORIAN
METHOD:PUBLISH
X-WR-CALNAME:Freizeit
X-ORIGINAL-URL:https://freizeit.hildesheimer-allgemeine.de
X-WR-CALDESC:Veranstaltungen im Freizeit
REFRESH-INTERVAL;VALUE=DURATION:PT1H
X-Robots-Tag:noindex
X-PUBLISHED-TTL:PT1H
BEGIN:VTIMEZONE
TZID:Europe/Berlin
BEGIN:DAYLIGHT
TZOFFSETFROM:+0100
TZOFFSETTO:+0200
TZNAME:CEST
DTSTART:20260329T010000
END:DAYLIGHT
BEGIN:STANDARD
TZOFFSETFROM:+0200
TZOFFSETTO:+0100
TZNAME:CET
DTSTART:20261025T010000
END:STANDARD
END:VTIMEZONE
BEGIN:VEVENT
DTSTART;TZID=Europe/Berlin:20260423T183000
DTEND;TZID=Europe/Berlin:20260423T183000
DTSTAMP:20260422T063117
CREATED:20260213T083736Z
LAST-MODIFIED:20260213T083736Z
UID:144385-1776969000-1776969000@freizeit.hildesheimer-allgemeine.de
SUMMARY:Selbstverteidigungskurs für Frauen
DESCRIPTION:
URL:https://freizeit.hildesheimer-allgemeine.de/veranstaltungskalender/selbstverteidigungskurs-fuer-frauen-7/2026-04-23/
LOCATION:Trillke-Gut\, Steinbergstr. 42\, Hildesheim\, 31139\, Deutschland
CATEGORIES:Workshop
ATTACH;FMTTYPE=image/png:https://freizeit.hildesheimer-allgemeine.de/wp-content/uploads/2019/10/tai-chi.png
END:VEVENT
BEGIN:VEVENT
DTSTART;TZID=Europe/Berlin:20260430T183000
DTEND;TZID=Europe/Berlin:20260430T183000
DTSTAMP:20260422T063117
CREATED:20260213T083736Z
LAST-MODIFIED:20260213T083736Z
UID:144386-1777573800-1777573800@freizeit.hildesheimer-allgemeine.de
SUMMARY:Selbstverteidigungskurs für Frauen
DESCRIPTION:
URL:https://freizeit.hildesheimer-allgemeine.de/veranstaltungskalender/selbstverteidigungskurs-fuer-frauen-7/2026-04-30/
LOCATION:Trillke-Gut\, Steinbergstr. 42\, Hildesheim\, 31139\, Deutschland
CATEGORIES:Workshop
ATTACH;FMTTYPE=image/png:https://freizeit.hildesheimer-allgemeine.de/wp-content/uploads/2019/10/tai-chi.png
END:VEVENT
END:VCALENDAR