BEGIN:VCALENDAR
VERSION:2.0
PRODID:-//Freizeit - ECPv6.15.4//NONSGML v1.0//EN
CALSCALE:GREGORIAN
METHOD:PUBLISH
X-ORIGINAL-URL:https://freizeit.hildesheimer-allgemeine.de
X-WR-CALDESC:Veranstaltungen im Freizeit
REFRESH-INTERVAL;VALUE=DURATION:PT1H
X-Robots-Tag:noindex
X-PUBLISHED-TTL:PT1H
BEGIN:VTIMEZONE
TZID:Europe/Berlin
BEGIN:DAYLIGHT
TZOFFSETFROM:+0100
TZOFFSETTO:+0200
TZNAME:CEST
DTSTART:20260329T010000
END:DAYLIGHT
BEGIN:STANDARD
TZOFFSETFROM:+0200
TZOFFSETTO:+0100
TZNAME:CET
DTSTART:20261025T010000
END:STANDARD
END:VTIMEZONE
BEGIN:VEVENT
DTSTART;TZID=Europe/Berlin:20260414T140000
DTEND;TZID=Europe/Berlin:20260414T153000
DTSTAMP:20260420T190122
CREATED:20260212T122038Z
LAST-MODIFIED:20260212T122038Z
UID:144477-1776175200-1776180600@freizeit.hildesheimer-allgemeine.de
SUMMARY:Qunstwerkstatt
DESCRIPTION:Kreativwerkstatt für junge Erwachsene
URL:https://freizeit.hildesheimer-allgemeine.de/veranstaltungskalender/qunstwerkstatt-4/2026-04-14/
LOCATION:Theaterladen TPZ\, Am Ratsbauhof 1c\, Hildesheim
CATEGORIES:Sonstige,Workshop
ATTACH;FMTTYPE=image/jpeg:https://freizeit.hildesheimer-allgemeine.de/wp-content/uploads/2023/06/Info-Button.jpg
END:VEVENT
BEGIN:VEVENT
DTSTART;TZID=Europe/Berlin:20260407T140000
DTEND;TZID=Europe/Berlin:20260407T153000
DTSTAMP:20260420T190122
CREATED:20260212T122038Z
LAST-MODIFIED:20260212T122038Z
UID:144476-1775570400-1775575800@freizeit.hildesheimer-allgemeine.de
SUMMARY:Qunstwerkstatt
DESCRIPTION:Kreativwerkstatt für junge Erwachsene
URL:https://freizeit.hildesheimer-allgemeine.de/veranstaltungskalender/qunstwerkstatt-4/2026-04-07/
LOCATION:Theaterladen TPZ\, Am Ratsbauhof 1c\, Hildesheim
CATEGORIES:Sonstige,Workshop
ATTACH;FMTTYPE=image/jpeg:https://freizeit.hildesheimer-allgemeine.de/wp-content/uploads/2023/06/Info-Button.jpg
END:VEVENT
BEGIN:VEVENT
DTSTART;TZID=Europe/Berlin:20260331T140000
DTEND;TZID=Europe/Berlin:20260331T153000
DTSTAMP:20260420T190122
CREATED:20260212T122038Z
LAST-MODIFIED:20260327T103427Z
UID:143351-1774965600-1774971000@freizeit.hildesheimer-allgemeine.de
SUMMARY:Qunstwerkstatt
DESCRIPTION:Kreativwerkstatt für junge Erwachsene
URL:https://freizeit.hildesheimer-allgemeine.de/veranstaltungskalender/qunstwerkstatt-4/2026-03-31/
LOCATION:Theaterladen TPZ\, Am Ratsbauhof 1c\, Hildesheim
CATEGORIES:Sonstige,Workshop
ATTACH;FMTTYPE=image/jpeg:https://freizeit.hildesheimer-allgemeine.de/wp-content/uploads/2023/06/Info-Button.jpg
END:VEVENT
END:VCALENDAR