BEGIN:VCALENDAR
VERSION:2.0
PRODID:-//Freizeit - ECPv6.15.4//NONSGML v1.0//EN
CALSCALE:GREGORIAN
METHOD:PUBLISH
X-WR-CALNAME:Freizeit
X-ORIGINAL-URL:https://freizeit.hildesheimer-allgemeine.de
X-WR-CALDESC:Veranstaltungen im Freizeit
REFRESH-INTERVAL;VALUE=DURATION:PT1H
X-Robots-Tag:noindex
X-PUBLISHED-TTL:PT1H
BEGIN:VTIMEZONE
TZID:Europe/Berlin
BEGIN:DAYLIGHT
TZOFFSETFROM:+0100
TZOFFSETTO:+0200
TZNAME:CEST
DTSTART:20260329T010000
END:DAYLIGHT
BEGIN:STANDARD
TZOFFSETFROM:+0200
TZOFFSETTO:+0100
TZNAME:CET
DTSTART:20261025T010000
END:STANDARD
END:VTIMEZONE
BEGIN:VEVENT
DTSTART;TZID=Europe/Berlin:20260226T110000
DTEND;TZID=Europe/Berlin:20260226T110000
DTSTAMP:20260421T153442
CREATED:20260219T084817Z
LAST-MODIFIED:20260219T084817Z
UID:143578-1772103600-1772103600@freizeit.hildesheimer-allgemeine.de
SUMMARY:Pettersson und Findus
DESCRIPTION:Kindertheater\, thim/tfn
URL:https://freizeit.hildesheimer-allgemeine.de/veranstaltungskalender/pettersson-und-findus/2026-02-26/2/
LOCATION:TfN
CATEGORIES:Bühne,Kinder
ATTACH;FMTTYPE=image/jpeg:https://freizeit.hildesheimer-allgemeine.de/wp-content/uploads/2023/09/Logo-Tfn.jpg
END:VEVENT
BEGIN:VEVENT
DTSTART;TZID=Europe/Berlin:20260226T090000
DTEND;TZID=Europe/Berlin:20260226T090000
DTSTAMP:20260421T153442
CREATED:20260219T084817Z
LAST-MODIFIED:20260219T084817Z
UID:143577-1772096400-1772096400@freizeit.hildesheimer-allgemeine.de
SUMMARY:Pettersson und Findus
DESCRIPTION:Kindertheater\, thim/tfn
URL:https://freizeit.hildesheimer-allgemeine.de/veranstaltungskalender/pettersson-und-findus/2026-02-26/
LOCATION:TfN
CATEGORIES:Bühne,Kinder
ATTACH;FMTTYPE=image/jpeg:https://freizeit.hildesheimer-allgemeine.de/wp-content/uploads/2023/09/Logo-Tfn.jpg
END:VEVENT
BEGIN:VEVENT
DTSTART;TZID=Europe/Berlin:20260225T150000
DTEND;TZID=Europe/Berlin:20260225T150000
DTSTAMP:20260421T153442
CREATED:20260219T084817Z
LAST-MODIFIED:20260219T085631Z
UID:143560-1772031600-1772031600@freizeit.hildesheimer-allgemeine.de
SUMMARY:Pettersson und Findus
DESCRIPTION:Kindertheater\, thim/tfn
URL:https://freizeit.hildesheimer-allgemeine.de/veranstaltungskalender/pettersson-und-findus/2026-02-25/
LOCATION:TfN
CATEGORIES:Bühne,Kinder
ATTACH;FMTTYPE=image/jpeg:https://freizeit.hildesheimer-allgemeine.de/wp-content/uploads/2023/09/Logo-Tfn.jpg
END:VEVENT
END:VCALENDAR