BEGIN:VCALENDAR
VERSION:2.0
PRODID:-//Freizeit - ECPv6.15.4//NONSGML v1.0//EN
CALSCALE:GREGORIAN
METHOD:PUBLISH
X-ORIGINAL-URL:https://freizeit.hildesheimer-allgemeine.de
X-WR-CALDESC:Veranstaltungen im Freizeit
REFRESH-INTERVAL;VALUE=DURATION:PT1H
X-Robots-Tag:noindex
X-PUBLISHED-TTL:PT1H
BEGIN:VTIMEZONE
TZID:Europe/Berlin
BEGIN:DAYLIGHT
TZOFFSETFROM:+0100
TZOFFSETTO:+0200
TZNAME:CEST
DTSTART:20260329T010000
END:DAYLIGHT
BEGIN:STANDARD
TZOFFSETFROM:+0200
TZOFFSETTO:+0100
TZNAME:CET
DTSTART:20261025T010000
END:STANDARD
END:VTIMEZONE
BEGIN:VEVENT
DTSTART;TZID=Europe/Berlin:20260423T190000
DTEND;TZID=Europe/Berlin:20260423T190000
DTSTAMP:20260420T233354
CREATED:20260325T094341Z
LAST-MODIFIED:20260417T124256Z
UID:144354-1776970800-1776970800@freizeit.hildesheimer-allgemeine.de
SUMMARY:Performance-Tipp: The Mad Ones
DESCRIPTION:Im Zentrum ist Samantha Brown\, die nach dem plötzlichen Tod ihrer besten Freundin Kelly an einem Wendepunkt ihres Lebens steht. Statt klassischer Musical-Muster erzählt das Stück von Freundschaft\, Verlust\, Selbstfindung und der Frage\, ob man den Erwartungen anderer folgt oder den Mut hat\, einen eigenen Weg einzuschlagen.
URL:https://freizeit.hildesheimer-allgemeine.de/veranstaltungskalender/performance-tipp-the-mad-ones/2026-04-23/
LOCATION:Theaterhaus Hildesheim\, Langer Garten 23C\, Hildesheim\, 31137\, Deutschland
CATEGORIES:Bühne
ATTACH;FMTTYPE=image/jpeg:https://freizeit.hildesheimer-allgemeine.de/wp-content/uploads/2017/08/bühne.jpeg
GEO:52.16282;9.96087
X-APPLE-STRUCTURED-LOCATION;VALUE=URI;X-ADDRESS=Theaterhaus Hildesheim Langer Garten 23C Hildesheim 31137 Deutschland;X-APPLE-RADIUS=500;X-TITLE=Langer Garten 23C:geo:9.96087,52.16282
END:VEVENT
BEGIN:VEVENT
DTSTART;TZID=Europe/Berlin:20260424T190000
DTEND;TZID=Europe/Berlin:20260424T190000
DTSTAMP:20260420T233354
CREATED:20260325T094341Z
LAST-MODIFIED:20260325T094341Z
UID:144829-1777057200-1777057200@freizeit.hildesheimer-allgemeine.de
SUMMARY:Performance-Tipp: The Mad Ones
DESCRIPTION:Im Zentrum ist Samantha Brown\, die nach dem plötzlichen Tod ihrer besten Freundin Kelly an einem Wendepunkt ihres Lebens steht. Statt klassischer Musical-Muster erzählt das Stück von Freundschaft\, Verlust\, Selbstfindung und der Frage\, ob man den Erwartungen anderer folgt oder den Mut hat\, einen eigenen Weg einzuschlagen.
URL:https://freizeit.hildesheimer-allgemeine.de/veranstaltungskalender/performance-tipp-the-mad-ones/2026-04-24/
LOCATION:Theaterhaus Hildesheim\, Langer Garten 23C\, Hildesheim\, 31137\, Deutschland
CATEGORIES:Bühne
ATTACH;FMTTYPE=image/jpeg:https://freizeit.hildesheimer-allgemeine.de/wp-content/uploads/2017/08/bühne.jpeg
GEO:52.16282;9.96087
X-APPLE-STRUCTURED-LOCATION;VALUE=URI;X-ADDRESS=Theaterhaus Hildesheim Langer Garten 23C Hildesheim 31137 Deutschland;X-APPLE-RADIUS=500;X-TITLE=Langer Garten 23C:geo:9.96087,52.16282
END:VEVENT
BEGIN:VEVENT
DTSTART;TZID=Europe/Berlin:20260425T190000
DTEND;TZID=Europe/Berlin:20260425T190000
DTSTAMP:20260420T233354
CREATED:20260325T094341Z
LAST-MODIFIED:20260325T094341Z
UID:144830-1777143600-1777143600@freizeit.hildesheimer-allgemeine.de
SUMMARY:Performance-Tipp: The Mad Ones
DESCRIPTION:Im Zentrum ist Samantha Brown\, die nach dem plötzlichen Tod ihrer besten Freundin Kelly an einem Wendepunkt ihres Lebens steht. Statt klassischer Musical-Muster erzählt das Stück von Freundschaft\, Verlust\, Selbstfindung und der Frage\, ob man den Erwartungen anderer folgt oder den Mut hat\, einen eigenen Weg einzuschlagen.
URL:https://freizeit.hildesheimer-allgemeine.de/veranstaltungskalender/performance-tipp-the-mad-ones/2026-04-25/
LOCATION:Theaterhaus Hildesheim\, Langer Garten 23C\, Hildesheim\, 31137\, Deutschland
CATEGORIES:Bühne
ATTACH;FMTTYPE=image/jpeg:https://freizeit.hildesheimer-allgemeine.de/wp-content/uploads/2017/08/bühne.jpeg
GEO:52.16282;9.96087
X-APPLE-STRUCTURED-LOCATION;VALUE=URI;X-ADDRESS=Theaterhaus Hildesheim Langer Garten 23C Hildesheim 31137 Deutschland;X-APPLE-RADIUS=500;X-TITLE=Langer Garten 23C:geo:9.96087,52.16282
END:VEVENT
BEGIN:VEVENT
DTSTART;TZID=Europe/Berlin:20260426T190000
DTEND;TZID=Europe/Berlin:20260426T190000
DTSTAMP:20260420T233354
CREATED:20260325T094341Z
LAST-MODIFIED:20260325T094341Z
UID:144831-1777230000-1777230000@freizeit.hildesheimer-allgemeine.de
SUMMARY:Performance-Tipp: The Mad Ones
DESCRIPTION:Im Zentrum ist Samantha Brown\, die nach dem plötzlichen Tod ihrer besten Freundin Kelly an einem Wendepunkt ihres Lebens steht. Statt klassischer Musical-Muster erzählt das Stück von Freundschaft\, Verlust\, Selbstfindung und der Frage\, ob man den Erwartungen anderer folgt oder den Mut hat\, einen eigenen Weg einzuschlagen.
URL:https://freizeit.hildesheimer-allgemeine.de/veranstaltungskalender/performance-tipp-the-mad-ones/2026-04-26/
LOCATION:Theaterhaus Hildesheim\, Langer Garten 23C\, Hildesheim\, 31137\, Deutschland
CATEGORIES:Bühne
ATTACH;FMTTYPE=image/jpeg:https://freizeit.hildesheimer-allgemeine.de/wp-content/uploads/2017/08/bühne.jpeg
GEO:52.16282;9.96087
X-APPLE-STRUCTURED-LOCATION;VALUE=URI;X-ADDRESS=Theaterhaus Hildesheim Langer Garten 23C Hildesheim 31137 Deutschland;X-APPLE-RADIUS=500;X-TITLE=Langer Garten 23C:geo:9.96087,52.16282
END:VEVENT
BEGIN:VEVENT
DTSTART;TZID=Europe/Berlin:20260427T190000
DTEND;TZID=Europe/Berlin:20260427T190000
DTSTAMP:20260420T233354
CREATED:20260325T094341Z
LAST-MODIFIED:20260325T094341Z
UID:144832-1777316400-1777316400@freizeit.hildesheimer-allgemeine.de
SUMMARY:Performance-Tipp: The Mad Ones
DESCRIPTION:Im Zentrum ist Samantha Brown\, die nach dem plötzlichen Tod ihrer besten Freundin Kelly an einem Wendepunkt ihres Lebens steht. Statt klassischer Musical-Muster erzählt das Stück von Freundschaft\, Verlust\, Selbstfindung und der Frage\, ob man den Erwartungen anderer folgt oder den Mut hat\, einen eigenen Weg einzuschlagen.
URL:https://freizeit.hildesheimer-allgemeine.de/veranstaltungskalender/performance-tipp-the-mad-ones/2026-04-27/
LOCATION:Theaterhaus Hildesheim\, Langer Garten 23C\, Hildesheim\, 31137\, Deutschland
CATEGORIES:Bühne
ATTACH;FMTTYPE=image/jpeg:https://freizeit.hildesheimer-allgemeine.de/wp-content/uploads/2017/08/bühne.jpeg
GEO:52.16282;9.96087
X-APPLE-STRUCTURED-LOCATION;VALUE=URI;X-ADDRESS=Theaterhaus Hildesheim Langer Garten 23C Hildesheim 31137 Deutschland;X-APPLE-RADIUS=500;X-TITLE=Langer Garten 23C:geo:9.96087,52.16282
END:VEVENT
END:VCALENDAR