BEGIN:VCALENDAR
VERSION:2.0
PRODID:-//Freizeit - ECPv6.15.4//NONSGML v1.0//EN
CALSCALE:GREGORIAN
METHOD:PUBLISH
X-WR-CALNAME:Freizeit
X-ORIGINAL-URL:https://freizeit.hildesheimer-allgemeine.de
X-WR-CALDESC:Veranstaltungen im Freizeit
REFRESH-INTERVAL;VALUE=DURATION:PT1H
X-Robots-Tag:noindex
X-PUBLISHED-TTL:PT1H
BEGIN:VTIMEZONE
TZID:Europe/Berlin
BEGIN:DAYLIGHT
TZOFFSETFROM:+0100
TZOFFSETTO:+0200
TZNAME:CEST
DTSTART:20260329T010000
END:DAYLIGHT
BEGIN:STANDARD
TZOFFSETFROM:+0200
TZOFFSETTO:+0100
TZNAME:CET
DTSTART:20261025T010000
END:STANDARD
END:VTIMEZONE
BEGIN:VEVENT
DTSTART;TZID=Europe/Berlin:20260417T150000
DTEND;TZID=Europe/Berlin:20260417T150000
DTSTAMP:20260421T131125
CREATED:20260408T144717Z
LAST-MODIFIED:20260408T144717Z
UID:144680-1776438000-1776438000@freizeit.hildesheimer-allgemeine.de
SUMMARY:Musikalische Weltreise
DESCRIPTION:Wandelkonzert
URL:https://freizeit.hildesheimer-allgemeine.de/veranstaltungskalender/musikalische-weltreise/2026-04-17/
LOCATION:Roemer- und Pelizaeus Museum\, Am Steine 1-2\, Hildesheim\, 31134\, Deutschland
CATEGORIES:Musik
ATTACH;FMTTYPE=image/png:https://freizeit.hildesheimer-allgemeine.de/wp-content/uploads/2016/11/logo-rpm.png
GEO:52.1489147;9.9441182
X-APPLE-STRUCTURED-LOCATION;VALUE=URI;X-ADDRESS=Roemer- und Pelizaeus Museum Am Steine 1-2 Hildesheim 31134 Deutschland;X-APPLE-RADIUS=500;X-TITLE=Am Steine 1-2:geo:9.9441182,52.1489147
END:VEVENT
END:VCALENDAR