BEGIN:VCALENDAR
VERSION:2.0
PRODID:-//Freizeit - ECPv6.15.4//NONSGML v1.0//EN
CALSCALE:GREGORIAN
METHOD:PUBLISH
X-WR-CALNAME:Freizeit
X-ORIGINAL-URL:https://freizeit.hildesheimer-allgemeine.de
X-WR-CALDESC:Veranstaltungen im Freizeit
REFRESH-INTERVAL;VALUE=DURATION:PT1H
X-Robots-Tag:noindex
X-PUBLISHED-TTL:PT1H
BEGIN:VTIMEZONE
TZID:Europe/Berlin
BEGIN:DAYLIGHT
TZOFFSETFROM:+0100
TZOFFSETTO:+0200
TZNAME:CEST
DTSTART:20260329T010000
END:DAYLIGHT
BEGIN:STANDARD
TZOFFSETFROM:+0200
TZOFFSETTO:+0100
TZNAME:CET
DTSTART:20261025T010000
END:STANDARD
END:VTIMEZONE
BEGIN:VEVENT
DTSTART;TZID=Europe/Berlin:20260414T210000
DTEND;TZID=Europe/Berlin:20260414T210000
DTSTAMP:20260421T042521
CREATED:20260212T115608Z
LAST-MODIFIED:20260212T115608Z
UID:144469-1776200400-1776200400@freizeit.hildesheimer-allgemeine.de
SUMMARY:Jamsession
DESCRIPTION:
URL:https://freizeit.hildesheimer-allgemeine.de/veranstaltungskalender/jamsession-4/2026-04-14/
LOCATION:Wild Geese\, info@wild-geese.de / Osterstr. 16\, Hildesheim\, 31134\, Deutschland
CATEGORIES:Musik
ATTACH;FMTTYPE=image/png:https://freizeit.hildesheimer-allgemeine.de/wp-content/uploads/2016/11/wild-geese-e1730198689509.png
END:VEVENT
BEGIN:VEVENT
DTSTART;TZID=Europe/Berlin:20260407T210000
DTEND;TZID=Europe/Berlin:20260407T210000
DTSTAMP:20260421T042521
CREATED:20260212T115608Z
LAST-MODIFIED:20260212T115608Z
UID:144468-1775595600-1775595600@freizeit.hildesheimer-allgemeine.de
SUMMARY:Jamsession
DESCRIPTION:
URL:https://freizeit.hildesheimer-allgemeine.de/veranstaltungskalender/jamsession-4/2026-04-07/
LOCATION:Wild Geese\, info@wild-geese.de / Osterstr. 16\, Hildesheim\, 31134\, Deutschland
CATEGORIES:Musik
ATTACH;FMTTYPE=image/png:https://freizeit.hildesheimer-allgemeine.de/wp-content/uploads/2016/11/wild-geese-e1730198689509.png
END:VEVENT
BEGIN:VEVENT
DTSTART;TZID=Europe/Berlin:20260331T210000
DTEND;TZID=Europe/Berlin:20260331T210000
DTSTAMP:20260421T042521
CREATED:20260212T115608Z
LAST-MODIFIED:20260327T103256Z
UID:143343-1774990800-1774990800@freizeit.hildesheimer-allgemeine.de
SUMMARY:Jamsession
DESCRIPTION:
URL:https://freizeit.hildesheimer-allgemeine.de/veranstaltungskalender/jamsession-4/2026-03-31/
LOCATION:Wild Geese\, info@wild-geese.de / Osterstr. 16\, Hildesheim\, 31134\, Deutschland
CATEGORIES:Musik
ATTACH;FMTTYPE=image/png:https://freizeit.hildesheimer-allgemeine.de/wp-content/uploads/2016/11/wild-geese-e1730198689509.png
END:VEVENT
END:VCALENDAR