BEGIN:VCALENDAR
VERSION:2.0
PRODID:-//Freizeit - ECPv6.15.4//NONSGML v1.0//EN
CALSCALE:GREGORIAN
METHOD:PUBLISH
X-ORIGINAL-URL:https://freizeit.hildesheimer-allgemeine.de
X-WR-CALDESC:Veranstaltungen im Freizeit
REFRESH-INTERVAL;VALUE=DURATION:PT1H
X-Robots-Tag:noindex
X-PUBLISHED-TTL:PT1H
BEGIN:VTIMEZONE
TZID:Europe/Berlin
BEGIN:DAYLIGHT
TZOFFSETFROM:+0100
TZOFFSETTO:+0200
TZNAME:CEST
DTSTART:20260329T010000
END:DAYLIGHT
BEGIN:STANDARD
TZOFFSETFROM:+0200
TZOFFSETTO:+0100
TZNAME:CET
DTSTART:20261025T010000
END:STANDARD
END:VTIMEZONE
BEGIN:VEVENT
DTSTART;TZID=Europe/Berlin:20260301T110000
DTEND;TZID=Europe/Berlin:20260301T110000
DTSTAMP:20260423T185453
CREATED:20260219T123242Z
LAST-MODIFIED:20260219T123242Z
UID:143649-1772362800-1772362800@freizeit.hildesheimer-allgemeine.de
SUMMARY:Führung: Hendrick Goltzius
DESCRIPTION:Die Führung stellt das druckgrafische\nWerk des Manieristen und\nAllroundgenies Hendrick Goltzius vor –\neine Reise in die antike Mythologie\nund zu christlichen Bilderwelten.
URL:https://freizeit.hildesheimer-allgemeine.de/veranstaltungskalender/fuehrung-hendrick-goltzius-2/2026-03-01/
LOCATION:Landesmuseum Hannover\, info@landesmuseum-hannover.de / Willy-Brandt-Allee 5\, Hannover\, 30169\, Deutschland
CATEGORIES:Ausstellung,Lesung & Vortrag
ATTACH;FMTTYPE=image/jpeg:https://freizeit.hildesheimer-allgemeine.de/wp-content/uploads/2016/09/landesmuseum1-1-e1504869605587.jpg
GEO:52.3653614;9.7399899
X-APPLE-STRUCTURED-LOCATION;VALUE=URI;X-ADDRESS=Landesmuseum Hannover info@landesmuseum-hannover.de / Willy-Brandt-Allee 5 Hannover 30169 Deutschland;X-APPLE-RADIUS=500;X-TITLE=info@landesmuseum-hannover.de / Willy-Brandt-Allee 5:geo:9.7399899,52.3653614
END:VEVENT
BEGIN:VEVENT
DTSTART;TZID=Europe/Berlin:20260222T110000
DTEND;TZID=Europe/Berlin:20260222T110000
DTSTAMP:20260423T185453
CREATED:20260219T123242Z
LAST-MODIFIED:20260219T124257Z
UID:143634-1771758000-1771758000@freizeit.hildesheimer-allgemeine.de
SUMMARY:Führung: Hendrick Goltzius
DESCRIPTION:Die Führung stellt das druckgrafische\nWerk des Manieristen und\nAllroundgenies Hendrick Goltzius vor –\neine Reise in die antike Mythologie\nund zu christlichen Bilderwelten.
URL:https://freizeit.hildesheimer-allgemeine.de/veranstaltungskalender/fuehrung-hendrick-goltzius-2/2026-02-22/
LOCATION:Landesmuseum Hannover\, info@landesmuseum-hannover.de / Willy-Brandt-Allee 5\, Hannover\, 30169\, Deutschland
CATEGORIES:Ausstellung,Lesung & Vortrag
ATTACH;FMTTYPE=image/jpeg:https://freizeit.hildesheimer-allgemeine.de/wp-content/uploads/2016/09/landesmuseum1-1-e1504869605587.jpg
GEO:52.3653614;9.7399899
X-APPLE-STRUCTURED-LOCATION;VALUE=URI;X-ADDRESS=Landesmuseum Hannover info@landesmuseum-hannover.de / Willy-Brandt-Allee 5 Hannover 30169 Deutschland;X-APPLE-RADIUS=500;X-TITLE=info@landesmuseum-hannover.de / Willy-Brandt-Allee 5:geo:9.7399899,52.3653614
END:VEVENT
END:VCALENDAR