BEGIN:VCALENDAR
VERSION:2.0
PRODID:-//Freizeit - ECPv6.15.4//NONSGML v1.0//EN
CALSCALE:GREGORIAN
METHOD:PUBLISH
X-WR-CALNAME:Freizeit
X-ORIGINAL-URL:https://freizeit.hildesheimer-allgemeine.de
X-WR-CALDESC:Veranstaltungen im Freizeit
REFRESH-INTERVAL;VALUE=DURATION:PT1H
X-Robots-Tag:noindex
X-PUBLISHED-TTL:PT1H
BEGIN:VTIMEZONE
TZID:Europe/Berlin
BEGIN:DAYLIGHT
TZOFFSETFROM:+0100
TZOFFSETTO:+0200
TZNAME:CEST
DTSTART:20260329T010000
END:DAYLIGHT
BEGIN:STANDARD
TZOFFSETFROM:+0200
TZOFFSETTO:+0100
TZNAME:CET
DTSTART:20261025T010000
END:STANDARD
END:VTIMEZONE
BEGIN:VEVENT
DTSTART;TZID=Europe/Berlin:20260425T190000
DTEND;TZID=Europe/Berlin:20260425T190000
DTSTAMP:20260421T042839
CREATED:20260420T123956Z
LAST-MODIFIED:20260420T125429Z
UID:144854-1777143600-1777143600@freizeit.hildesheimer-allgemeine.de
SUMMARY:Ausstellung Landleben
DESCRIPTION:Eröffnung
URL:https://freizeit.hildesheimer-allgemeine.de/veranstaltungskalender/ausstellung-landleben/2026-04-25/
LOCATION:Kunstverein Hildesheim e.V.\, Am Kehrwieder 2\, Hildesheim\, Deutschland
CATEGORIES:Ausstellung
ATTACH;FMTTYPE=image/jpeg:https://freizeit.hildesheimer-allgemeine.de/wp-content/uploads/2016/08/Ausstellung.jpg
END:VEVENT
BEGIN:VEVENT
DTSTART;TZID=Europe/Berlin:20260426T110000
DTEND;TZID=Europe/Berlin:20260426T123000
DTSTAMP:20260421T042839
CREATED:20260420T123956Z
LAST-MODIFIED:20260420T123956Z
UID:144896-1777201200-1777206600@freizeit.hildesheimer-allgemeine.de
SUMMARY:Ausstellung Landleben
DESCRIPTION:Eröffnung
URL:https://freizeit.hildesheimer-allgemeine.de/veranstaltungskalender/ausstellung-landleben/2026-04-26/
LOCATION:Kunstverein Hildesheim e.V.\, Am Kehrwieder 2\, Hildesheim\, Deutschland
CATEGORIES:Ausstellung
ATTACH;FMTTYPE=image/jpeg:https://freizeit.hildesheimer-allgemeine.de/wp-content/uploads/2016/08/Ausstellung.jpg
END:VEVENT
BEGIN:VEVENT
DTSTART;TZID=Europe/Berlin:20260429T180000
DTEND;TZID=Europe/Berlin:20260429T170000
DTSTAMP:20260421T042839
CREATED:20260420T123956Z
LAST-MODIFIED:20260420T123956Z
UID:144897-1777485600-1777482000@freizeit.hildesheimer-allgemeine.de
SUMMARY:Ausstellung Landleben
DESCRIPTION:Eröffnung
URL:https://freizeit.hildesheimer-allgemeine.de/veranstaltungskalender/ausstellung-landleben/2026-04-29/
LOCATION:Kunstverein Hildesheim e.V.\, Am Kehrwieder 2\, Hildesheim\, Deutschland
CATEGORIES:Ausstellung
ATTACH;FMTTYPE=image/jpeg:https://freizeit.hildesheimer-allgemeine.de/wp-content/uploads/2016/08/Ausstellung.jpg
END:VEVENT
END:VCALENDAR