BEGIN:VCALENDAR
VERSION:2.0
PRODID:-//Freizeit - ECPv6.15.4//NONSGML v1.0//EN
CALSCALE:GREGORIAN
METHOD:PUBLISH
X-ORIGINAL-URL:https://freizeit.hildesheimer-allgemeine.de
X-WR-CALDESC:Veranstaltungen im Freizeit
REFRESH-INTERVAL;VALUE=DURATION:PT1H
X-Robots-Tag:noindex
X-PUBLISHED-TTL:PT1H
BEGIN:VTIMEZONE
TZID:Europe/Berlin
BEGIN:DAYLIGHT
TZOFFSETFROM:+0100
TZOFFSETTO:+0200
TZNAME:CEST
DTSTART:20260329T010000
END:DAYLIGHT
BEGIN:STANDARD
TZOFFSETFROM:+0200
TZOFFSETTO:+0100
TZNAME:CET
DTSTART:20261025T010000
END:STANDARD
END:VTIMEZONE
BEGIN:VEVENT
DTSTART;TZID=Europe/Berlin:20260521T090000
DTEND;TZID=Europe/Berlin:20260521T110000
DTSTAMP:20260425T015333
CREATED:20251219T131803Z
LAST-MODIFIED:20251219T131803Z
UID:142421-1779354000-1779361200@freizeit.hildesheimer-allgemeine.de
SUMMARY:Workshop "Berufs(neu)start für Frauen mit gesundheitlichen Herausforderungen"
DESCRIPTION:„Sie haben eine körperliche oder psychische Beeinträchtigung und möchten Ihren Traumjob erreichen? \n  \nIn dieser Veranstaltung erhalten Sie wertvolle Informationen zum Thema Beeinträchtigung\, Behinderung\, Schwerbehinderung\, berufliche Rehabilitation und Ausgleichsmöglichkeiten im Beruf. Auch die Neuorientierung in ein anderes Berufsfeld durch Umschulung\, Ausbildung oder Studium wird Thema sein. Wir beleuchten das Thema „Bewerbung mit Handicap“ und verschiedene Stellensuchportale. \n  \nTanja Lichthardt\, Beauftragte für Chancengleichheit am Arbeitsmarkt (BCA) der Agentur für Arbeit Hildesheim\, erarbeitet mit Ihnen in der Kleingruppe einen individuellen Fahrplan und versorgt sie mit dem erforderlichen Hintergrundwissen. \n  \nAnmeldung erforderlich unter https://eveeno.com/677411213
URL:https://freizeit.hildesheimer-allgemeine.de/veranstaltungskalender/workshop-berufsneustart-fuer-frauen-mit-gesundheitlichen-herausforderungen-2/
LOCATION:Koordinierungsstelle Frauen und Wirtschaft Hildesheim\, Kaiserstr. 15\, Hildesheim\, Deutschland
CATEGORIES:Lesung & Vortrag
ATTACH;FMTTYPE=image/jpeg:https://freizeit.hildesheimer-allgemeine.de/wp-content/uploads/2023/06/Info-Button.jpg
GEO:52.1558068;9.9504712
X-APPLE-STRUCTURED-LOCATION;VALUE=URI;X-ADDRESS=Koordinierungsstelle Frauen und Wirtschaft Hildesheim Kaiserstr. 15 Hildesheim Deutschland;X-APPLE-RADIUS=500;X-TITLE=Kaiserstr. 15:geo:9.9504712,52.1558068
END:VEVENT
BEGIN:VEVENT
DTSTART;TZID=Europe/Berlin:20260521T110000
DTEND;TZID=Europe/Berlin:20260521T110000
DTSTAMP:20260425T015333
CREATED:20260326T123948Z
LAST-MODIFIED:20260326T123948Z
UID:144912-1779361200-1779361200@freizeit.hildesheimer-allgemeine.de
SUMMARY:Historische Führung: Kunstmuseum Schloss Derneburg
DESCRIPTION:Über das Außengelände
URL:https://freizeit.hildesheimer-allgemeine.de/veranstaltungskalender/historische-fuehrung-kunstmuseum-schloss-derneburg/2026-05-21/
LOCATION:Kunstmuseum Schloss Derneburg\, Deutschland
CATEGORIES:Ausstellung,Lesung & Vortrag
ATTACH;FMTTYPE=image/jpeg:https://freizeit.hildesheimer-allgemeine.de/wp-content/uploads/2023/06/Info-Button.jpg
END:VEVENT
BEGIN:VEVENT
DTSTART;TZID=Europe/Berlin:20260521T163000
DTEND;TZID=Europe/Berlin:20260521T180000
DTSTAMP:20260425T015333
CREATED:20250107T155800Z
LAST-MODIFIED:20260316T084359Z
UID:133340-1779381000-1779386400@freizeit.hildesheimer-allgemeine.de
SUMMARY:Berufswunsch: Polizist/in - Infoveranstaltung im BIZ
DESCRIPTION:In unserer kostenlosen Veranstaltung informieren Polizeibeamte/-innen der niedersächsischen Landespolizei über die Voraussetzungen für den Einstieg in den Polizeidienst und geben interessante Einblicke sowie Antworten auf Deine Fragen. \nAlle interessierten Personen\, ob Schüler/innen\, Erziehungsberechtigte oder Personen mit Interesse an einer beruflichen Neuausrichtung sind herzlich willkommen! \nDetails und Anmeldung unter ..weiter
URL:https://freizeit.hildesheimer-allgemeine.de/veranstaltungskalender/berufswunsch-polizistin/
LOCATION:BiZ\, Am Marienfriedhof 3\, Hildesheim\, 31134\, Deutschland
CATEGORIES:Lesung & Vortrag,Sonstige
ATTACH;FMTTYPE=image/jpeg:https://freizeit.hildesheimer-allgemeine.de/wp-content/uploads/2023/06/Info-Button.jpg
GEO:52.1591773;9.9584103
X-APPLE-STRUCTURED-LOCATION;VALUE=URI;X-ADDRESS=BiZ Am Marienfriedhof 3 Hildesheim 31134 Deutschland;X-APPLE-RADIUS=500;X-TITLE=Am Marienfriedhof 3:geo:9.9584103,52.1591773
END:VEVENT
END:VCALENDAR