BEGIN:VCALENDAR
VERSION:2.0
PRODID:-//Freizeit - ECPv6.15.4//NONSGML v1.0//EN
CALSCALE:GREGORIAN
METHOD:PUBLISH
X-ORIGINAL-URL:https://freizeit.hildesheimer-allgemeine.de
X-WR-CALDESC:Veranstaltungen im Freizeit
REFRESH-INTERVAL;VALUE=DURATION:PT1H
X-Robots-Tag:noindex
X-PUBLISHED-TTL:PT1H
BEGIN:VTIMEZONE
TZID:Europe/Berlin
BEGIN:DAYLIGHT
TZOFFSETFROM:+0100
TZOFFSETTO:+0200
TZNAME:CEST
DTSTART:20260329T010000
END:DAYLIGHT
BEGIN:STANDARD
TZOFFSETFROM:+0200
TZOFFSETTO:+0100
TZNAME:CET
DTSTART:20261025T010000
END:STANDARD
END:VTIMEZONE
BEGIN:VEVENT
DTSTART;TZID=Europe/Berlin:20260513T110000
DTEND;TZID=Europe/Berlin:20260513T110000
DTSTAMP:20260423T182506
CREATED:20260326T123948Z
LAST-MODIFIED:20260326T123948Z
UID:144904-1778670000-1778670000@freizeit.hildesheimer-allgemeine.de
SUMMARY:Historische Führung: Kunstmuseum Schloss Derneburg
DESCRIPTION:Über das Außengelände
URL:https://freizeit.hildesheimer-allgemeine.de/veranstaltungskalender/historische-fuehrung-kunstmuseum-schloss-derneburg/2026-05-13/
LOCATION:Kunstmuseum Schloss Derneburg\, Deutschland
CATEGORIES:Ausstellung,Lesung & Vortrag
ATTACH;FMTTYPE=image/jpeg:https://freizeit.hildesheimer-allgemeine.de/wp-content/uploads/2023/06/Info-Button.jpg
END:VEVENT
BEGIN:VEVENT
DTSTART;TZID=Europe/Berlin:20260513T190000
DTEND;TZID=Europe/Berlin:20260513T190000
DTSTAMP:20260423T182506
CREATED:20260415T093217Z
LAST-MODIFIED:20260415T093217Z
UID:144774-1778698800-1778698800@freizeit.hildesheimer-allgemeine.de
SUMMARY:Konzert: Cookies For The Cat live im Brunotteschen Hof
DESCRIPTION:Manchmal entstehen spontane Verbindungen\, so auch diese\, zwischen dem Akustik Duo Cookies For The Cat und dem Brunotteschen Hof. \nCookies For The Cat\, das sind Volkmar Steffen und Arhodula Kratzmann aus Groß Boden in Schleswig-Holstein. Seit 2017 sind sie als Akustik-Duo mit ihren Gitarren und Stimmen unterwegs und spielen Songs aus den Bereichen Folk\, Rock\, Country und Americana. \nAm Abend vor Himmelfahrt spielen Sie im Brunotteschen Hof in Wallenstedt ab 19 Uhr ein Konzert ihres bunten Repertoires – bei gutem Wetter draußen im Garten\, bei schlechtem Wetter in der Tenne des ältesten Fachwerkbauernhauses in Südniedersachsen. \nDer Eintritt ist frei\, um eine Spende für die Musiker bitten wir trotzdem gerne. Das Team des Brunotteschen Hofs kümmert sich wie immer um das gelungene Drumherum.
URL:https://freizeit.hildesheimer-allgemeine.de/veranstaltungskalender/konzert-cookies-for-the-cat-live-im-brunotteschen-hof/
LOCATION:Brunottescher Hof\, Gronau\, Deutschland
CATEGORIES:Musik
ATTACH;FMTTYPE=image/jpeg:https://freizeit.hildesheimer-allgemeine.de/wp-content/uploads/2016/08/musik2.jpg
END:VEVENT
END:VCALENDAR