BEGIN:VCALENDAR
VERSION:2.0
PRODID:-//Freizeit - ECPv6.15.4//NONSGML v1.0//EN
CALSCALE:GREGORIAN
METHOD:PUBLISH
X-WR-CALNAME:Freizeit
X-ORIGINAL-URL:https://freizeit.hildesheimer-allgemeine.de
X-WR-CALDESC:Veranstaltungen im Freizeit
REFRESH-INTERVAL;VALUE=DURATION:PT1H
X-Robots-Tag:noindex
X-PUBLISHED-TTL:PT1H
BEGIN:VTIMEZONE
TZID:Europe/Berlin
BEGIN:DAYLIGHT
TZOFFSETFROM:+0100
TZOFFSETTO:+0200
TZNAME:CEST
DTSTART:20260329T010000
END:DAYLIGHT
BEGIN:STANDARD
TZOFFSETFROM:+0200
TZOFFSETTO:+0100
TZNAME:CET
DTSTART:20261025T010000
END:STANDARD
END:VTIMEZONE
BEGIN:VEVENT
DTSTART;VALUE=DATE:20260508
DTEND;VALUE=DATE:20260511
DTSTAMP:20260423T130008
CREATED:20260312T102123Z
LAST-MODIFIED:20260312T102123Z
UID:144046-1778198400-1778457599@freizeit.hildesheimer-allgemeine.de
SUMMARY:Camper & Vanlife Event
DESCRIPTION:Outdoor Messe rund um Thema Camping\, Outdoor\, Biken und Draussen sein. Direkt am Deister am Jagdschloss Springe. \nInfos ..weiter
URL:https://freizeit.hildesheimer-allgemeine.de/veranstaltungskalender/camper-vanlife-event/
LOCATION:Jagdschloss Springe\, Jagdschloss \, Springe\, 31832\, Deutschland
CATEGORIES:Ausstellung,Basar & Messe
ATTACH;FMTTYPE=image/jpeg:https://freizeit.hildesheimer-allgemeine.de/wp-content/uploads/2016/08/messe.jpg
GEO:52.1887921;9.5722894
X-APPLE-STRUCTURED-LOCATION;VALUE=URI;X-ADDRESS=Jagdschloss Springe Jagdschloss  Springe 31832 Deutschland;X-APPLE-RADIUS=500;X-TITLE=Jagdschloss:geo:9.5722894,52.1887921
END:VEVENT
BEGIN:VEVENT
DTSTART;TZID=Europe/Berlin:20260510T110000
DTEND;TZID=Europe/Berlin:20260510T110000
DTSTAMP:20260423T130008
CREATED:20260326T123948Z
LAST-MODIFIED:20260326T123948Z
UID:144901-1778410800-1778410800@freizeit.hildesheimer-allgemeine.de
SUMMARY:Historische Führung: Kunstmuseum Schloss Derneburg
DESCRIPTION:Über das Außengelände
URL:https://freizeit.hildesheimer-allgemeine.de/veranstaltungskalender/historische-fuehrung-kunstmuseum-schloss-derneburg/2026-05-10/
LOCATION:Kunstmuseum Schloss Derneburg\, Deutschland
CATEGORIES:Ausstellung,Lesung & Vortrag
ATTACH;FMTTYPE=image/jpeg:https://freizeit.hildesheimer-allgemeine.de/wp-content/uploads/2023/06/Info-Button.jpg
END:VEVENT
BEGIN:VEVENT
DTSTART;TZID=Europe/Berlin:20260510T110000
DTEND;TZID=Europe/Berlin:20260510T180000
DTSTAMP:20260423T130008
CREATED:20260421T101101Z
LAST-MODIFIED:20260421T101247Z
UID:144982-1778410800-1778436000@freizeit.hildesheimer-allgemeine.de
SUMMARY:Garten- und Wellnessfest
DESCRIPTION:Garten- und Wellnessfest im Kurpark Bad Salzdetfurth am 09. und 10. Mai 2026 Wenn der Kurpark von Bad Salzdetfurth im Frühlingsglanz erstrahlt\, ist es wieder so weit: Das beliebte Garten- und Wellnessfest kehrt am 09. und 10. Mai bereits zum 14. Mal zurück! Über 80 Aussteller aus ganz Deutschland reisen an\, um die neuesten Trends aus den Bereichen Garten\, Wellness und Kunsthandwerk zu präsentieren. Zwischen den imposanten\, 250 Jahre alten Gradierwerken und auf den weitläufigen Grünflächen gibt es an diesem Wochenende wieder viel zu entdecken. \n  \nInspiration für Gartenfreunde \nDie Gartensaison ist eröffnet. Das bedeutet\, es ist wieder Zeit\, den Balkon\, die Terrasse und den Garten aufzufrischen! Auf einer 300 Quadratmeter großen Rasenfläche finden die Besucher mehr als 1000 verschiedene Dekoelemente von Gartensteckern\, Windspielen\, Körben\, Figuren\, Betondeko bis hin zu Rankgittern aus Stahl und Edelrost. \n  \nBei „La Maison“ erwartet die Besucher eine breite Auswahl an stilvoller Wohndekorationen\, die das eigene Zuhause optisch und funktional bereichert. Von dekorativen Akzenten bis hin zu praktischen Wohnaccessoires bietet das Sortiment passende Lösungen für unterschiedliche Geschmäcker und Wohnkonzepte. Darüber hinaus präsentiert La Maison innovative Möglichkeiten der künstlichen Raumbegrünung: Ob Kunstmoos oder hochwertige Seidenblumen auch für eine pflegeleichte\, ansprechende Begrünung der eigenen vier Wände finden Interessierte am Stand vielfältige Inspirationen. \n  \nWieder mit dabei ist die die Blooming Company aus den Niederlanden. Ob farbenprächtige Tulpen\, elegante Narzissen oder duftende Hyazinthen\, Blumenzwiebeln bieten für jede Jahreszeit und jeden Gartenstil die passende Auswahl für Garten\, Balkon und Landschaftsgestaltung. \nIm Pavillon gegenüber der Kurparkbühne zeigt das „Orchideen Neuhaus“ aus Hückeswagen die Vielfalt seltener Orchideenarten.
URL:https://freizeit.hildesheimer-allgemeine.de/veranstaltungskalender/garten-und-wellnessfest-2/2026-05-10/
LOCATION:Kurpark Bad Salzdetfurth\, Unterstraße\, Bad Salzdetfurth\, 31162\, Deutschland
CATEGORIES:Sonstige
ATTACH;FMTTYPE=image/jpeg:https://freizeit.hildesheimer-allgemeine.de/wp-content/uploads/2023/06/Info-Button.jpg
GEO:52.066129;10.0099262
X-APPLE-STRUCTURED-LOCATION;VALUE=URI;X-ADDRESS=Kurpark Bad Salzdetfurth Unterstraße Bad Salzdetfurth 31162 Deutschland;X-APPLE-RADIUS=500;X-TITLE=Unterstraße:geo:10.0099262,52.066129
END:VEVENT
BEGIN:VEVENT
DTSTART;TZID=Europe/Berlin:20260510T120000
DTEND;TZID=Europe/Berlin:20260510T160000
DTSTAMP:20260423T130008
CREATED:20260409T103338Z
LAST-MODIFIED:20260409T105809Z
UID:144709-1778414400-1778428800@freizeit.hildesheimer-allgemeine.de
SUMMARY:Floh-und Secondhandmarkt um die Mitelallee
DESCRIPTION:Floh- und Secondhandmarkt mit der besonderen Atmosphäre! \nVon Hüpfburg bis  Musik und Leckerei ist alles dabei.
URL:https://freizeit.hildesheimer-allgemeine.de/veranstaltungskalender/floh-und-secondhandmarkt-um-die-mitelallee-2/
LOCATION:Mittelallee Moritzberg\, Hildesheim\, Deutschland
CATEGORIES:Basar & Messe
ATTACH;FMTTYPE=image/jpeg:https://freizeit.hildesheimer-allgemeine.de/wp-content/uploads/2023/06/Info-Button.jpg
END:VEVENT
BEGIN:VEVENT
DTSTART;TZID=Europe/Berlin:20260510T120000
DTEND;TZID=Europe/Berlin:20260510T170000
DTSTAMP:20260423T130008
CREATED:20260121T095223Z
LAST-MODIFIED:20260121T095223Z
UID:142760-1778414400-1778432400@freizeit.hildesheimer-allgemeine.de
SUMMARY:Ausstellung „Where Would You Go if You Could Go Anywhere“
DESCRIPTION:„Where Would You Go if You Could Go Anywhere“ Manuela Karin Knaut 26. April – 24. Mai 2026 \nIn ihrer Ausstellung widmet sich Manuela Karin Knaut den Themen Bewegung\, Reise und Heimat – drei Begriffe\, die in ihrer künstlerischen Praxis untrennbar verbunden sind. Die Künstlerin übersetzt das Unterwegs-sein in Malerei\, Installation und Objektkunst. Ihre Arbeiten erzählen von  inneren und äußeren Reisen\, von Orten\, die wir verlassen\, und solchen\, die wir in uns tragen. Knauts großformatige Gemälde und  installative Arbeiten sind von einer unverwechselbaren Energie durchdrungen. Schicht um Schicht entstehen viel-stimmige Oberflächen\, in denen Spuren\, Fragmente und Farbverläufe zu visuellen Landkarten werden. \nManuela Karin Knaut\, geboren 1970\, lebt derzeit in Braunschweig. Sie  erwarb einen Master of Arts in Bildender Kunst an der Universität Des Witwatersrand« in Johannesburg\, Südafrika. Ihre Arbeiten wurden international in zahlreichen Ausstellungen und Kunstmessen gezeigt und sind Teil bemerkenswerter privater und öffentlicher  Sammlungen „Des Witwatersrand“ in Johannesburg\, Südafrika. \nZur Eröffnung am Sonntag\, 26. April um 11:15 Uhr spricht Yara Hoffmann. \nNEUE Öffnungszeiten: \nSamstag 12–17 Uhr \nSonntag 12–17 Uhr
URL:https://freizeit.hildesheimer-allgemeine.de/veranstaltungskalender/ausstellung-where-would-you-go-if-you-could-go-anywhere/2026-05-10/
LOCATION:Galerie im Stammelbach-Speicher\, Wachsmuthstraße 20/21\, Hildesheim\, 31134\, Deutschland
CATEGORIES:Ausstellung
ATTACH;FMTTYPE=image/jpeg:https://freizeit.hildesheimer-allgemeine.de/wp-content/uploads/2016/08/Ausstellung.jpg
GEO:52.1576;9.94781
X-APPLE-STRUCTURED-LOCATION;VALUE=URI;X-ADDRESS=Galerie im Stammelbach-Speicher Wachsmuthstraße 20/21 Hildesheim 31134 Deutschland;X-APPLE-RADIUS=500;X-TITLE=Wachsmuthstraße 20/21:geo:9.94781,52.1576
END:VEVENT
BEGIN:VEVENT
DTSTART;TZID=Europe/Berlin:20260510T120000
DTEND;TZID=Europe/Berlin:20260510T170000
DTSTAMP:20260423T130008
CREATED:20260121T095404Z
LAST-MODIFIED:20260121T095404Z
UID:142770-1778414400-1778432400@freizeit.hildesheimer-allgemeine.de
SUMMARY:Ausstellung „Truly Unruly – A Woodblock's Walkabout!“
DESCRIPTION:„Truly Unruly – A Woodblock’s Walkabout!“ Roman Klonek 26. April – 24. Mai 2026 \nRoman Kloneks grafische Werke sprühen nur so vor ausufernden Geschichten und Ideen. Oft changieren sie zwischen quirliger Andersartigkeit und schaurigem Slapstick. Seine Holzschnitte sind im bildlichen Aufbau stark an die klassische Plakatkunst angelehnt. Im Mittelpunkt steht hierbei meistens eine Art freies narratives Spiel aus Formen\, Szenen und Figuren\, das nicht selten an experimentelle Cartoons aus den 1960er-Jahren erinnert. Und tat-sächlich ist die Themenwahl des Künstlers stark von seiner visuellen  Prägung in der Kindheit beeinflusst. \nRoman Klonek\, geb. 1969 in Katowice\, arbeitet zusammen mit Freunden in einem Atelier in Düsseldorf. In den 90er-Jahren studierte er Visuelle Kommunikation in Düsseldorf und entdeckte dabei seine Leidenschaft für den Holzschnitt. Seit inzwischen 25 Jahren er-schafft er Drucke mit einer Vielzahl von skurrilen Kreaturen. Seine Arbeit lässt sich als bizarrer Balanceakt  zwischen Propaganda\, Folklore und Pop beschreiben. \nZur Eröffnung am Sonntag\, 26. April um 11:15 Uhr spricht Leon Heitmann. \nNEUE Öffnungszeiten: \nSamstag 12–17 Uhr \nSonntag 12–17 Uhr
URL:https://freizeit.hildesheimer-allgemeine.de/veranstaltungskalender/ausstellung-truly-unruly-a-woodblocks-walkabout/2026-05-10/
LOCATION:Galerie im Stammelbach-Speicher\, Wachsmuthstraße 20/21\, Hildesheim\, 31134\, Deutschland
CATEGORIES:Ausstellung
ATTACH;FMTTYPE=image/jpeg:https://freizeit.hildesheimer-allgemeine.de/wp-content/uploads/2016/08/Ausstellung.jpg
GEO:52.1576;9.94781
X-APPLE-STRUCTURED-LOCATION;VALUE=URI;X-ADDRESS=Galerie im Stammelbach-Speicher Wachsmuthstraße 20/21 Hildesheim 31134 Deutschland;X-APPLE-RADIUS=500;X-TITLE=Wachsmuthstraße 20/21:geo:9.94781,52.1576
END:VEVENT
BEGIN:VEVENT
DTSTART;TZID=Europe/Berlin:20260510T120000
DTEND;TZID=Europe/Berlin:20260510T170000
DTSTAMP:20260423T130008
CREATED:20260121T095541Z
LAST-MODIFIED:20260121T095541Z
UID:142780-1778414400-1778432400@freizeit.hildesheimer-allgemeine.de
SUMMARY:Ausstellung „Stationen“ Pia Chwalczyk
DESCRIPTION:„Stationen“ Pia Chwalczyk \n\nApril – 24. Mai 2026\n\nPia Chwalczyk ist die Gewinnerin des Atelierstipendiums »JUNGE KUNST!« des Jahres 2025/26\, das die Weinhagen Stiftung in Zusammenarbeit mit dem BBK Hildesheim  vergibt. Die Ausstellung zum Ende des Stipendiums zeigt Arbeiten\, die in  ihrem Atelier im Stammelbach-Speicher entstanden sind\, sowie den künstlerischen Prozess. Sie setzt sich mit der Abbildung der Realität in Form von Portraits und Naturstudien auseinander. \nPia Chwalczyk\, geb. 1995 in Hildes-heim\, hat ihr Bachelor- und Masterstudium »Grafikdesign« an der HAWK ab-solviert. Schwerpunkt ihres Masterstudiums »Künstlerische Arbeit« war die Malerei. \nVernissage ist am 26. April um 12:30 Uhr im 4.OG der Atelieretage. \nNEUE Öffnungszeiten: \nSamstag 12–17 Uhr \nSonntag 12–17 Uhr
URL:https://freizeit.hildesheimer-allgemeine.de/veranstaltungskalender/ausstellung-stationen-pia-chwalczyk/2026-05-10/
LOCATION:Galerie im Stammelbach-Speicher\, Wachsmuthstraße 20/21\, Hildesheim\, 31134\, Deutschland
CATEGORIES:Ausstellung
ATTACH;FMTTYPE=image/jpeg:https://freizeit.hildesheimer-allgemeine.de/wp-content/uploads/2016/08/Ausstellung.jpg
GEO:52.1576;9.94781
X-APPLE-STRUCTURED-LOCATION;VALUE=URI;X-ADDRESS=Galerie im Stammelbach-Speicher Wachsmuthstraße 20/21 Hildesheim 31134 Deutschland;X-APPLE-RADIUS=500;X-TITLE=Wachsmuthstraße 20/21:geo:9.94781,52.1576
END:VEVENT
END:VCALENDAR