BEGIN:VCALENDAR
VERSION:2.0
PRODID:-//Freizeit - ECPv6.15.4//NONSGML v1.0//EN
CALSCALE:GREGORIAN
METHOD:PUBLISH
X-ORIGINAL-URL:https://freizeit.hildesheimer-allgemeine.de
X-WR-CALDESC:Veranstaltungen im Freizeit
REFRESH-INTERVAL;VALUE=DURATION:PT1H
X-Robots-Tag:noindex
X-PUBLISHED-TTL:PT1H
BEGIN:VTIMEZONE
TZID:Europe/Berlin
BEGIN:DAYLIGHT
TZOFFSETFROM:+0100
TZOFFSETTO:+0200
TZNAME:CEST
DTSTART:20260329T010000
END:DAYLIGHT
BEGIN:STANDARD
TZOFFSETFROM:+0200
TZOFFSETTO:+0100
TZNAME:CET
DTSTART:20261025T010000
END:STANDARD
END:VTIMEZONE
BEGIN:VEVENT
DTSTART;VALUE=DATE:20260508
DTEND;VALUE=DATE:20260511
DTSTAMP:20260423T090344
CREATED:20260312T102123Z
LAST-MODIFIED:20260312T102123Z
UID:144046-1778198400-1778457599@freizeit.hildesheimer-allgemeine.de
SUMMARY:Camper & Vanlife Event
DESCRIPTION:Outdoor Messe rund um Thema Camping\, Outdoor\, Biken und Draussen sein. Direkt am Deister am Jagdschloss Springe. \nInfos ..weiter
URL:https://freizeit.hildesheimer-allgemeine.de/veranstaltungskalender/camper-vanlife-event/
LOCATION:Jagdschloss Springe\, Jagdschloss \, Springe\, 31832\, Deutschland
CATEGORIES:Ausstellung,Basar & Messe
ATTACH;FMTTYPE=image/jpeg:https://freizeit.hildesheimer-allgemeine.de/wp-content/uploads/2016/08/messe.jpg
GEO:52.1887921;9.5722894
X-APPLE-STRUCTURED-LOCATION;VALUE=URI;X-ADDRESS=Jagdschloss Springe Jagdschloss  Springe 31832 Deutschland;X-APPLE-RADIUS=500;X-TITLE=Jagdschloss:geo:9.5722894,52.1887921
END:VEVENT
BEGIN:VEVENT
DTSTART;TZID=Europe/Berlin:20260508T110000
DTEND;TZID=Europe/Berlin:20260508T110000
DTSTAMP:20260423T090344
CREATED:20260326T123948Z
LAST-MODIFIED:20260326T123948Z
UID:144893-1778238000-1778238000@freizeit.hildesheimer-allgemeine.de
SUMMARY:Historische Führung: Kunstmuseum Schloss Derneburg
DESCRIPTION:Über das Außengelände
URL:https://freizeit.hildesheimer-allgemeine.de/veranstaltungskalender/historische-fuehrung-kunstmuseum-schloss-derneburg/2026-05-08/
LOCATION:Kunstmuseum Schloss Derneburg\, Deutschland
CATEGORIES:Ausstellung,Lesung & Vortrag
ATTACH;FMTTYPE=image/jpeg:https://freizeit.hildesheimer-allgemeine.de/wp-content/uploads/2023/06/Info-Button.jpg
END:VEVENT
BEGIN:VEVENT
DTSTART;TZID=Europe/Berlin:20260508T190000
DTEND;TZID=Europe/Berlin:20260508T190000
DTSTAMP:20260423T090344
CREATED:20260415T093436Z
LAST-MODIFIED:20260415T093436Z
UID:144776-1778266800-1778266800@freizeit.hildesheimer-allgemeine.de
SUMMARY:Italienischer Abend mit Weinen aus Friaul & Sizilien
DESCRIPTION:Erlebt einen unvergesslichen Abend voller Genuss im La Gondola. Am Freitag\, 8. Mai 2026 laden wir euch zu einem italienischen Abend mit köstlichen Weinen ein. Freut euch auf ein exklusives 5-Gänge-Menü\, perfekt abgestimmt auf erlesene Weine aus den sonnigen Regionen Friaul und Sizilien. \nUnsere Küche hat ein Menü kreiert\, das die Aromen Italiens auf eure Teller bringt – von der Vorspeise bis hin zum verführerischen Dessert. Begleitet werden die Gänge von einem handverlesenen Wein\, der die Geschmackserlebnisse perfekt ergänzt. \nLa Gondola \n* Marienburger Straße 90B\, Hildesheim \n* Freitag\, 8. Mai 2026\, 19.00 Uhr \n* Einlass 18.30 Uhr \n* 5-Gänge-Menü – 69 Euro pro Person \nVerbringt mit uns einen tollen italienischen Abend. Wir freuen uns schon auf euch! \nLa Gondola \nMarienburger Straße 90B\, 31141 Hildesheim Reservierung unter Tel. (0 51 21) 6 05 56 63 \nE-Mail: lagondola.48@gmail.com
URL:https://freizeit.hildesheimer-allgemeine.de/veranstaltungskalender/italienischer-abend-mit-weinen-aus-friaul-sizilien/
LOCATION:La Gondola\, Marienburger Str. 90B\, Hildesheim\, Niedersachsen\, 31141\, Deutschland
CATEGORIES:Sonstige
ATTACH;FMTTYPE=image/jpeg:https://freizeit.hildesheimer-allgemeine.de/wp-content/uploads/2023/06/Info-Button.jpg
END:VEVENT
END:VCALENDAR