BEGIN:VCALENDAR
VERSION:2.0
PRODID:-//Freizeit - ECPv6.15.4//NONSGML v1.0//EN
CALSCALE:GREGORIAN
METHOD:PUBLISH
X-WR-CALNAME:Freizeit
X-ORIGINAL-URL:https://freizeit.hildesheimer-allgemeine.de
X-WR-CALDESC:Veranstaltungen im Freizeit
REFRESH-INTERVAL;VALUE=DURATION:PT1H
X-Robots-Tag:noindex
X-PUBLISHED-TTL:PT1H
BEGIN:VTIMEZONE
TZID:Europe/Berlin
BEGIN:DAYLIGHT
TZOFFSETFROM:+0100
TZOFFSETTO:+0200
TZNAME:CEST
DTSTART:20260329T010000
END:DAYLIGHT
BEGIN:STANDARD
TZOFFSETFROM:+0200
TZOFFSETTO:+0100
TZNAME:CET
DTSTART:20261025T010000
END:STANDARD
END:VTIMEZONE
BEGIN:VEVENT
DTSTART;TZID=Europe/Berlin:20260506T110000
DTEND;TZID=Europe/Berlin:20260506T110000
DTSTAMP:20260423T050952
CREATED:20260326T123948Z
LAST-MODIFIED:20260326T123948Z
UID:144891-1778065200-1778065200@freizeit.hildesheimer-allgemeine.de
SUMMARY:Historische Führung: Kunstmuseum Schloss Derneburg
DESCRIPTION:Über das Außengelände
URL:https://freizeit.hildesheimer-allgemeine.de/veranstaltungskalender/historische-fuehrung-kunstmuseum-schloss-derneburg/2026-05-06/
LOCATION:Kunstmuseum Schloss Derneburg\, Deutschland
CATEGORIES:Ausstellung,Lesung & Vortrag
ATTACH;FMTTYPE=image/jpeg:https://freizeit.hildesheimer-allgemeine.de/wp-content/uploads/2023/06/Info-Button.jpg
END:VEVENT
BEGIN:VEVENT
DTSTART;TZID=Europe/Berlin:20260506T183000
DTEND;TZID=Europe/Berlin:20260506T183000
DTSTAMP:20260423T050952
CREATED:20260422T094850Z
LAST-MODIFIED:20260422T094850Z
UID:144992-1778092200-1778092200@freizeit.hildesheimer-allgemeine.de
SUMMARY:„Rund um die Geburt“ im St. Bernward Krankenhaus
DESCRIPTION:Infoabend für werdende Eltern am 6. Mai\n„Rund um die Geburt“ im St. Bernward Krankenhaus \nDas St. Bernward Krankenhaus lädt für Mittwoch\, 6. Mai\, zu einem Infoabend für werdende Eltern ein. Die etwa einstündige Veranstaltung beginnt um 18.30 Uhr. Treffpunkt ist der Godehardsaal\, Gebäude B\, Ebene 0. Der Infoabend ist kostenlos und ohne Anmeldung. \nDr. Susanne Peschel\, Chefärztin der Frauenklinik\, sowie das Team der Geburtshilfe erklären alles Wissenswertes zum Thema Geburt im St. Bernward Krankenhaus. \nAlle Termine im Überblick finden Interessierte unter www.bernward-khs.de/veranstaltungen.
URL:https://freizeit.hildesheimer-allgemeine.de/veranstaltungskalender/rund-um-die-geburt-im-st-bernward-krankenhaus-5/
LOCATION:St. Bernward Krankenhaus\, info@bernward-khs.de / Treibestraße 9\, Hildesheim\, 31134\, Deutschland
CATEGORIES:Lesung & Vortrag
ATTACH;FMTTYPE=image/jpeg:https://freizeit.hildesheimer-allgemeine.de/wp-content/uploads/2023/06/Info-Button.jpg
GEO:52.1467412;9.9470766
X-APPLE-STRUCTURED-LOCATION;VALUE=URI;X-ADDRESS=St. Bernward Krankenhaus info@bernward-khs.de / Treibestraße 9 Hildesheim 31134 Deutschland;X-APPLE-RADIUS=500;X-TITLE=info@bernward-khs.de / Treibestraße 9:geo:9.9470766,52.1467412
END:VEVENT
END:VCALENDAR