BEGIN:VCALENDAR
VERSION:2.0
PRODID:-//Freizeit - ECPv6.15.4//NONSGML v1.0//EN
CALSCALE:GREGORIAN
METHOD:PUBLISH
X-ORIGINAL-URL:https://freizeit.hildesheimer-allgemeine.de
X-WR-CALDESC:Veranstaltungen im Freizeit
REFRESH-INTERVAL;VALUE=DURATION:PT1H
X-Robots-Tag:noindex
X-PUBLISHED-TTL:PT1H
BEGIN:VTIMEZONE
TZID:Europe/Berlin
BEGIN:DAYLIGHT
TZOFFSETFROM:+0100
TZOFFSETTO:+0200
TZNAME:CEST
DTSTART:20260329T010000
END:DAYLIGHT
BEGIN:STANDARD
TZOFFSETFROM:+0200
TZOFFSETTO:+0100
TZNAME:CET
DTSTART:20261025T010000
END:STANDARD
END:VTIMEZONE
BEGIN:VEVENT
DTSTART;TZID=Europe/Berlin:20260429T110000
DTEND;TZID=Europe/Berlin:20260429T110000
DTSTAMP:20260422T152536
CREATED:20260326T123948Z
LAST-MODIFIED:20260326T123948Z
UID:144884-1777460400-1777460400@freizeit.hildesheimer-allgemeine.de
SUMMARY:Historische Führung: Kunstmuseum Schloss Derneburg
DESCRIPTION:Über das Außengelände
URL:https://freizeit.hildesheimer-allgemeine.de/veranstaltungskalender/historische-fuehrung-kunstmuseum-schloss-derneburg/2026-04-29/
LOCATION:Kunstmuseum Schloss Derneburg\, Deutschland
CATEGORIES:Ausstellung,Lesung & Vortrag
ATTACH;FMTTYPE=image/jpeg:https://freizeit.hildesheimer-allgemeine.de/wp-content/uploads/2023/06/Info-Button.jpg
END:VEVENT
BEGIN:VEVENT
DTSTART;TZID=Europe/Berlin:20260429T180000
DTEND;TZID=Europe/Berlin:20260429T170000
DTSTAMP:20260422T152536
CREATED:20260420T123956Z
LAST-MODIFIED:20260420T123956Z
UID:144897-1777485600-1777482000@freizeit.hildesheimer-allgemeine.de
SUMMARY:Ausstellung Landleben
DESCRIPTION:Eröffnung
URL:https://freizeit.hildesheimer-allgemeine.de/veranstaltungskalender/ausstellung-landleben/2026-04-29/
LOCATION:Kunstverein Hildesheim e.V.\, Am Kehrwieder 2\, Hildesheim\, Deutschland
CATEGORIES:Ausstellung
ATTACH;FMTTYPE=image/jpeg:https://freizeit.hildesheimer-allgemeine.de/wp-content/uploads/2016/08/Ausstellung.jpg
END:VEVENT
BEGIN:VEVENT
DTSTART;TZID=Europe/Berlin:20260429T180000
DTEND;TZID=Europe/Berlin:20260429T180000
DTSTAMP:20260422T152536
CREATED:20250902T094022Z
LAST-MODIFIED:20250902T094022Z
UID:144362-1777485600-1777485600@freizeit.hildesheimer-allgemeine.de
SUMMARY:Lauftreff
DESCRIPTION:Bündnis gegen Depressionen
URL:https://freizeit.hildesheimer-allgemeine.de/veranstaltungskalender/lauftreff/2026-04-29/
LOCATION:Treffpunkt: Hohnsensee Parkplatz
CATEGORIES:Sonstige,Sport
ATTACH;FMTTYPE=image/jpeg:https://freizeit.hildesheimer-allgemeine.de/wp-content/uploads/2020/01/sport.jpg
END:VEVENT
BEGIN:VEVENT
DTSTART;TZID=Europe/Berlin:20260429T190000
DTEND;TZID=Europe/Berlin:20260429T190000
DTSTAMP:20260422T152536
CREATED:20260316T090530Z
LAST-MODIFIED:20260421T093816Z
UID:144115-1777489200-1777489200@freizeit.hildesheimer-allgemeine.de
SUMMARY:Lese-Tipp: Silent Book Club
DESCRIPTION:Das beliebte Format des stillen Lesens in Gesellschaft mit anderen begann im Herbst 2024 in der Kreuzbar und wurde aus Platzgründen im Herbst 2025 in die Stadtbibliothek verlegt. Im November konnten bereits 50 Gäste jeden Alters begrüßt werden\, die sich nach einer Phase des Einfindens und der allgemeinen Begrüßung auf die vielen gemütlich beleuchteten Leseplätze verteilten. In der folgenden stillen Lesestunde war es möglich\, ein eigens mitgebrachtes Buch oder eines aus dem Angebot der Bibliothek zu lesen. Bei der anschließenden Abschlussrunde konnte\, wer wollte\, sein gelesenes Buch kurz vorstellen und mit den anderen darüber in Austausch kommen.
URL:https://freizeit.hildesheimer-allgemeine.de/veranstaltungskalender/lese-tipp-silent-book-club/
LOCATION:Stadtbibliothek\, stadtbibliothek@stadt-hildesheim.de / Scheelenstr. 26\, Hildesheim\, 31134\, Deutschland
CATEGORIES:Lesung & Vortrag
ATTACH;FMTTYPE=image/jpeg:https://freizeit.hildesheimer-allgemeine.de/wp-content/uploads/2016/08/lesung-1.jpg
GEO:52.15228;9.95176
X-APPLE-STRUCTURED-LOCATION;VALUE=URI;X-ADDRESS=Stadtbibliothek stadtbibliothek@stadt-hildesheim.de / Scheelenstr. 26 Hildesheim 31134 Deutschland;X-APPLE-RADIUS=500;X-TITLE=stadtbibliothek@stadt-hildesheim.de / Scheelenstr. 26:geo:9.95176,52.15228
END:VEVENT
BEGIN:VEVENT
DTSTART;TZID=Europe/Berlin:20260429T200000
DTEND;TZID=Europe/Berlin:20260429T200000
DTSTAMP:20260422T152536
CREATED:20260212T152212Z
LAST-MODIFIED:20260212T152212Z
UID:144367-1777492800-1777492800@freizeit.hildesheimer-allgemeine.de
SUMMARY:SoKü - die SoliKüche
DESCRIPTION:Die SoliKüche kocht vegan.
URL:https://freizeit.hildesheimer-allgemeine.de/veranstaltungskalender/sokue-die-solikueche/2026-04-29/
LOCATION:Kulturfabrik Löseke\, kontakt@kufa.info / Langer Garten 1\, Hildesheim\, 31137\, Deutschland
CATEGORIES:Sonstige,Workshop
ATTACH;FMTTYPE=image/jpeg:https://freizeit.hildesheimer-allgemeine.de/wp-content/uploads/2017/04/feu-22-Kulturf_500-e1551794035363.jpg
END:VEVENT
BEGIN:VEVENT
DTSTART;TZID=Europe/Berlin:20260429T210000
DTEND;TZID=Europe/Berlin:20260429T210000
DTSTAMP:20260422T152536
CREATED:20260421T093905Z
LAST-MODIFIED:20260421T093905Z
UID:144952-1777496400-1777496400@freizeit.hildesheimer-allgemeine.de
SUMMARY:Club VEB: All Nine Yards + Lavila
DESCRIPTION:Alternative-Rock\, Metal
URL:https://freizeit.hildesheimer-allgemeine.de/veranstaltungskalender/club-veb-all-nine-yards-lavila/
LOCATION:Kulturfabrik Löseke\, kontakt@kufa.info / Langer Garten 1\, Hildesheim\, 31137\, Deutschland
CATEGORIES:Musik
ATTACH;FMTTYPE=image/jpeg:https://freizeit.hildesheimer-allgemeine.de/wp-content/uploads/2017/04/feu-22-Kulturf_500-e1551794035363.jpg
END:VEVENT
END:VCALENDAR