BEGIN:VCALENDAR
VERSION:2.0
PRODID:-//Freizeit - ECPv6.15.4//NONSGML v1.0//EN
CALSCALE:GREGORIAN
METHOD:PUBLISH
X-ORIGINAL-URL:https://freizeit.hildesheimer-allgemeine.de
X-WR-CALDESC:Veranstaltungen im Freizeit
REFRESH-INTERVAL;VALUE=DURATION:PT1H
X-Robots-Tag:noindex
X-PUBLISHED-TTL:PT1H
BEGIN:VTIMEZONE
TZID:Europe/Berlin
BEGIN:DAYLIGHT
TZOFFSETFROM:+0100
TZOFFSETTO:+0200
TZNAME:CEST
DTSTART:20260329T010000
END:DAYLIGHT
BEGIN:STANDARD
TZOFFSETFROM:+0200
TZOFFSETTO:+0100
TZNAME:CET
DTSTART:20261025T010000
END:STANDARD
END:VTIMEZONE
BEGIN:VEVENT
DTSTART;TZID=Europe/Berlin:20260428T100000
DTEND;TZID=Europe/Berlin:20260428T100000
DTSTAMP:20260422T133544
CREATED:20260212T120936Z
LAST-MODIFIED:20260212T120936Z
UID:144475-1777370400-1777370400@freizeit.hildesheimer-allgemeine.de
SUMMARY:Wanderung am Dienstag
DESCRIPTION:Harzklub Zweigverein Hildesheim
URL:https://freizeit.hildesheimer-allgemeine.de/veranstaltungskalender/wanderung-am-dienstag-6/2026-04-28/
LOCATION:Treffpunkt Südwaldstr. Buswendeschleife/ Diekholzen
CATEGORIES:Sonstige
ATTACH;FMTTYPE=image/jpeg:https://freizeit.hildesheimer-allgemeine.de/wp-content/uploads/2016/08/Wandern-e1532691350939.jpeg
END:VEVENT
BEGIN:VEVENT
DTSTART;TZID=Europe/Berlin:20260428T110000
DTEND;TZID=Europe/Berlin:20260428T110000
DTSTAMP:20260422T133544
CREATED:20260326T123948Z
LAST-MODIFIED:20260326T123948Z
UID:144883-1777374000-1777374000@freizeit.hildesheimer-allgemeine.de
SUMMARY:Historische Führung: Kunstmuseum Schloss Derneburg
DESCRIPTION:Über das Außengelände
URL:https://freizeit.hildesheimer-allgemeine.de/veranstaltungskalender/historische-fuehrung-kunstmuseum-schloss-derneburg/2026-04-28/
LOCATION:Kunstmuseum Schloss Derneburg\, Deutschland
CATEGORIES:Ausstellung,Lesung & Vortrag
ATTACH;FMTTYPE=image/jpeg:https://freizeit.hildesheimer-allgemeine.de/wp-content/uploads/2023/06/Info-Button.jpg
END:VEVENT
BEGIN:VEVENT
DTSTART;TZID=Europe/Berlin:20260428T140000
DTEND;TZID=Europe/Berlin:20260428T153000
DTSTAMP:20260422T133544
CREATED:20260212T122038Z
LAST-MODIFIED:20260212T122038Z
UID:144479-1777384800-1777390200@freizeit.hildesheimer-allgemeine.de
SUMMARY:Qunstwerkstatt
DESCRIPTION:Kreativwerkstatt für junge Erwachsene
URL:https://freizeit.hildesheimer-allgemeine.de/veranstaltungskalender/qunstwerkstatt-4/2026-04-28/
LOCATION:Theaterladen TPZ\, Am Ratsbauhof 1c\, Hildesheim
CATEGORIES:Sonstige,Workshop
ATTACH;FMTTYPE=image/jpeg:https://freizeit.hildesheimer-allgemeine.de/wp-content/uploads/2023/06/Info-Button.jpg
END:VEVENT
BEGIN:VEVENT
DTSTART;TZID=Europe/Berlin:20260428T183000
DTEND;TZID=Europe/Berlin:20260428T183000
DTSTAMP:20260422T133544
CREATED:20260421T092902Z
LAST-MODIFIED:20260421T092902Z
UID:144944-1777401000-1777401000@freizeit.hildesheimer-allgemeine.de
SUMMARY:Faschisierung\, Fluchtlinie des Digitalen
DESCRIPTION:Vortrag
URL:https://freizeit.hildesheimer-allgemeine.de/veranstaltungskalender/faschisierung-fluchtlinie-des-digitalen/
LOCATION:Trillke-Gut\, Steinbergstr. 42\, Hildesheim\, 31139\, Deutschland
CATEGORIES:Lesung & Vortrag
ATTACH;FMTTYPE=image/jpeg:https://freizeit.hildesheimer-allgemeine.de/wp-content/uploads/2016/08/lesung-1.jpg
END:VEVENT
BEGIN:VEVENT
DTSTART;TZID=Europe/Berlin:20260428T200000
DTEND;TZID=Europe/Berlin:20260428T200000
DTSTAMP:20260422T133544
CREATED:20260421T093140Z
LAST-MODIFIED:20260421T093140Z
UID:144946-1777406400-1777406400@freizeit.hildesheimer-allgemeine.de
SUMMARY:Masterplan
DESCRIPTION:Metal
URL:https://freizeit.hildesheimer-allgemeine.de/veranstaltungskalender/masterplan/
LOCATION:Musikzentrum Hannover\, info@musikzentrum-hannover.de / Emil-Meyer-Straße 26\, Hannover\, 30165\, Deutschland
CATEGORIES:Musik
ATTACH;FMTTYPE=image/jpeg:https://freizeit.hildesheimer-allgemeine.de/wp-content/uploads/2019/01/MusikzentrumHannover-e1559644473389.jpg
END:VEVENT
BEGIN:VEVENT
DTSTART;TZID=Europe/Berlin:20260428T200000
DTEND;TZID=Europe/Berlin:20260428T200000
DTSTAMP:20260422T133544
CREATED:20260421T093653Z
LAST-MODIFIED:20260421T093653Z
UID:144948-1777406400-1777406400@freizeit.hildesheimer-allgemeine.de
SUMMARY:Dota
DESCRIPTION:Indie-Pop
URL:https://freizeit.hildesheimer-allgemeine.de/veranstaltungskalender/dota-3/
LOCATION:Pavillon\, info@pavillon-hannover.de / Lister Meile 4\, Hannover\, 30161\, Deutschland
CATEGORIES:Musik
ATTACH;FMTTYPE=image/png:https://freizeit.hildesheimer-allgemeine.de/wp-content/uploads/2019/10/pavillon-neu.png
END:VEVENT
BEGIN:VEVENT
DTSTART;TZID=Europe/Berlin:20260428T200000
DTEND;TZID=Europe/Berlin:20260428T200000
DTSTAMP:20260422T133544
CREATED:20260421T093736Z
LAST-MODIFIED:20260421T093736Z
UID:144950-1777406400-1777406400@freizeit.hildesheimer-allgemeine.de
SUMMARY:Lonely Spring
DESCRIPTION:Rock
URL:https://freizeit.hildesheimer-allgemeine.de/veranstaltungskalender/lonely-spring-4/
LOCATION:Lux\, Schwarzer Bär 2\, Hannover\, 30449
CATEGORIES:Musik
ATTACH;FMTTYPE=image/jpeg:https://freizeit.hildesheimer-allgemeine.de/wp-content/uploads/2026/02/Lux-hannover.jpg
GEO:52.3684078;9.7203662
X-APPLE-STRUCTURED-LOCATION;VALUE=URI;X-ADDRESS=Lux Schwarzer Bär 2 Hannover 30449;X-APPLE-RADIUS=500;X-TITLE=Schwarzer Bär 2:geo:9.7203662,52.3684078
END:VEVENT
BEGIN:VEVENT
DTSTART;TZID=Europe/Berlin:20260428T210000
DTEND;TZID=Europe/Berlin:20260428T210000
DTSTAMP:20260422T133544
CREATED:20260212T115608Z
LAST-MODIFIED:20260212T115608Z
UID:144471-1777410000-1777410000@freizeit.hildesheimer-allgemeine.de
SUMMARY:Jamsession
DESCRIPTION:
URL:https://freizeit.hildesheimer-allgemeine.de/veranstaltungskalender/jamsession-4/2026-04-28/
LOCATION:Wild Geese\, info@wild-geese.de / Osterstr. 16\, Hildesheim\, 31134\, Deutschland
CATEGORIES:Musik
ATTACH;FMTTYPE=image/png:https://freizeit.hildesheimer-allgemeine.de/wp-content/uploads/2016/11/wild-geese-e1730198689509.png
END:VEVENT
BEGIN:VEVENT
DTSTART;TZID=Europe/Berlin:20260428T210000
DTEND;TZID=Europe/Berlin:20260428T210000
DTSTAMP:20260422T133544
CREATED:20260212T135304Z
LAST-MODIFIED:20260212T135304Z
UID:144483-1777410000-1777410000@freizeit.hildesheimer-allgemeine.de
SUMMARY:Quiznight
DESCRIPTION:
URL:https://freizeit.hildesheimer-allgemeine.de/veranstaltungskalender/quiznight-6/2026-04-28/
LOCATION:LitteraNova\, marco-vegas@web.de / Wallstraße 12a\, Hildesheim\, 31134\, Deutschland
CATEGORIES:Sonstige
ATTACH;FMTTYPE=image/jpeg:https://freizeit.hildesheimer-allgemeine.de/wp-content/uploads/2019/10/litteranova.jpg
END:VEVENT
END:VCALENDAR