BEGIN:VCALENDAR
VERSION:2.0
PRODID:-//Freizeit - ECPv6.15.4//NONSGML v1.0//EN
CALSCALE:GREGORIAN
METHOD:PUBLISH
X-ORIGINAL-URL:https://freizeit.hildesheimer-allgemeine.de
X-WR-CALDESC:Veranstaltungen im Freizeit
REFRESH-INTERVAL;VALUE=DURATION:PT1H
X-Robots-Tag:noindex
X-PUBLISHED-TTL:PT1H
BEGIN:VTIMEZONE
TZID:Europe/Berlin
BEGIN:DAYLIGHT
TZOFFSETFROM:+0100
TZOFFSETTO:+0200
TZNAME:CEST
DTSTART:20260329T010000
END:DAYLIGHT
BEGIN:STANDARD
TZOFFSETFROM:+0200
TZOFFSETTO:+0100
TZNAME:CET
DTSTART:20261025T010000
END:STANDARD
END:VTIMEZONE
BEGIN:VEVENT
DTSTART;TZID=Europe/Berlin:20260427T110000
DTEND;TZID=Europe/Berlin:20260427T110000
DTSTAMP:20260422T120109
CREATED:20260326T123948Z
LAST-MODIFIED:20260326T123948Z
UID:144882-1777287600-1777287600@freizeit.hildesheimer-allgemeine.de
SUMMARY:Historische Führung: Kunstmuseum Schloss Derneburg
DESCRIPTION:Über das Außengelände
URL:https://freizeit.hildesheimer-allgemeine.de/veranstaltungskalender/historische-fuehrung-kunstmuseum-schloss-derneburg/2026-04-27/
LOCATION:Kunstmuseum Schloss Derneburg\, Deutschland
CATEGORIES:Ausstellung,Lesung & Vortrag
ATTACH;FMTTYPE=image/jpeg:https://freizeit.hildesheimer-allgemeine.de/wp-content/uploads/2023/06/Info-Button.jpg
END:VEVENT
BEGIN:VEVENT
DTSTART;TZID=Europe/Berlin:20260427T150000
DTEND;TZID=Europe/Berlin:20260427T150000
DTSTAMP:20260422T120109
CREATED:20260213T083301Z
LAST-MODIFIED:20260213T083301Z
UID:144395-1777302000-1777302000@freizeit.hildesheimer-allgemeine.de
SUMMARY:Offenes Faserwerk
DESCRIPTION:
URL:https://freizeit.hildesheimer-allgemeine.de/veranstaltungskalender/offenes-faserwerk-11/2026-04-27/
LOCATION:Faserwerk\, Ottostr. 77\, Hildesheim\, Deutschland
CATEGORIES:Ausstellung,Sonstige
ATTACH;FMTTYPE=image/png:https://freizeit.hildesheimer-allgemeine.de/wp-content/uploads/2019/10/faserwerk.png
END:VEVENT
BEGIN:VEVENT
DTSTART;TZID=Europe/Berlin:20260427T170000
DTEND;TZID=Europe/Berlin:20260427T170000
DTSTAMP:20260422T120109
CREATED:20260130T161814Z
LAST-MODIFIED:20260130T161814Z
UID:144459-1777309200-1777309200@freizeit.hildesheimer-allgemeine.de
SUMMARY:ZwischenZeilen
DESCRIPTION:gemeinsam Lesen
URL:https://freizeit.hildesheimer-allgemeine.de/veranstaltungskalender/zwischenzeilen-4/2026-04-27/
LOCATION:Theaterladen TPZ\, Am Ratsbauhof 1c\, Hildesheim
CATEGORIES:Sonstige
ATTACH;FMTTYPE=image/jpeg:https://freizeit.hildesheimer-allgemeine.de/wp-content/uploads/2023/06/Info-Button.jpg
END:VEVENT
BEGIN:VEVENT
DTSTART;TZID=Europe/Berlin:20260427T180000
DTEND;TZID=Europe/Berlin:20260427T180000
DTSTAMP:20260422T120109
CREATED:20250829T100344Z
LAST-MODIFIED:20250829T100344Z
UID:144463-1777312800-1777312800@freizeit.hildesheimer-allgemeine.de
SUMMARY:Walktreff
DESCRIPTION:Bündnis gegen Depressionen
URL:https://freizeit.hildesheimer-allgemeine.de/veranstaltungskalender/walktreff/2026-04-27/
LOCATION:Treffpunkt: Hohnsensee Parkplatz
CATEGORIES:Sonstige,Sport
ATTACH;FMTTYPE=image/jpeg:https://freizeit.hildesheimer-allgemeine.de/wp-content/uploads/2016/08/Wandern-e1532691350939.jpeg
END:VEVENT
BEGIN:VEVENT
DTSTART;TZID=Europe/Berlin:20260427T190000
DTEND;TZID=Europe/Berlin:20260427T190000
DTSTAMP:20260422T120109
CREATED:20260325T094341Z
LAST-MODIFIED:20260325T094341Z
UID:144832-1777316400-1777316400@freizeit.hildesheimer-allgemeine.de
SUMMARY:Performance-Tipp: The Mad Ones
DESCRIPTION:Im Zentrum ist Samantha Brown\, die nach dem plötzlichen Tod ihrer besten Freundin Kelly an einem Wendepunkt ihres Lebens steht. Statt klassischer Musical-Muster erzählt das Stück von Freundschaft\, Verlust\, Selbstfindung und der Frage\, ob man den Erwartungen anderer folgt oder den Mut hat\, einen eigenen Weg einzuschlagen.
URL:https://freizeit.hildesheimer-allgemeine.de/veranstaltungskalender/performance-tipp-the-mad-ones/2026-04-27/
LOCATION:Theaterhaus Hildesheim\, Langer Garten 23C\, Hildesheim\, 31137\, Deutschland
CATEGORIES:Bühne
ATTACH;FMTTYPE=image/jpeg:https://freizeit.hildesheimer-allgemeine.de/wp-content/uploads/2017/08/bühne.jpeg
GEO:52.16282;9.96087
X-APPLE-STRUCTURED-LOCATION;VALUE=URI;X-ADDRESS=Theaterhaus Hildesheim Langer Garten 23C Hildesheim 31137 Deutschland;X-APPLE-RADIUS=500;X-TITLE=Langer Garten 23C:geo:9.96087,52.16282
END:VEVENT
BEGIN:VEVENT
DTSTART;TZID=Europe/Berlin:20260427T203000
DTEND;TZID=Europe/Berlin:20260427T203000
DTSTAMP:20260422T120109
CREATED:20260130T161639Z
LAST-MODIFIED:20260130T161639Z
UID:144455-1777321800-1777321800@freizeit.hildesheimer-allgemeine.de
SUMMARY:Sneak Preview
DESCRIPTION:Überraschungs-Vorpremiere
URL:https://freizeit.hildesheimer-allgemeine.de/veranstaltungskalender/sneak-preview-7/2026-04-27/
LOCATION:Thega Filmpalast\, info@thega-filmpalast.de / Theaterstraße 6\, Hildesheim\, 31141\, Deutschland
CATEGORIES:Film
ATTACH;FMTTYPE=image/jpeg:https://freizeit.hildesheimer-allgemeine.de/wp-content/uploads/2017/08/film-kino.jpg
END:VEVENT
END:VCALENDAR