BEGIN:VCALENDAR
VERSION:2.0
PRODID:-//Freizeit - ECPv6.15.4//NONSGML v1.0//EN
CALSCALE:GREGORIAN
METHOD:PUBLISH
X-ORIGINAL-URL:https://freizeit.hildesheimer-allgemeine.de
X-WR-CALDESC:Veranstaltungen im Freizeit
REFRESH-INTERVAL;VALUE=DURATION:PT1H
X-Robots-Tag:noindex
X-PUBLISHED-TTL:PT1H
BEGIN:VTIMEZONE
TZID:Europe/Berlin
BEGIN:DAYLIGHT
TZOFFSETFROM:+0100
TZOFFSETTO:+0200
TZNAME:CEST
DTSTART:20260329T010000
END:DAYLIGHT
BEGIN:STANDARD
TZOFFSETFROM:+0200
TZOFFSETTO:+0100
TZNAME:CET
DTSTART:20261025T010000
END:STANDARD
END:VTIMEZONE
BEGIN:VEVENT
DTSTART;TZID=Europe/Berlin:20260424T090000
DTEND;TZID=Europe/Berlin:20260424T090000
DTSTAMP:20260422T063004
CREATED:20251125T132648Z
LAST-MODIFIED:20251125T132648Z
UID:144813-1777021200-1777021200@freizeit.hildesheimer-allgemeine.de
SUMMARY:Bühnen-Tipp: #woistemily?
DESCRIPTION:Emily ist verschwunden. Sie ist nicht erreichbar. Niemand hat sie gesehen. Eine Schulsozialarbeiterin sucht nach ihr und trifft auf Widerstände. Das Stück erzählt spannend\, humorvoll und berührend von einer Jugendlichen\, die zu viel Verantwortung tragen musste und behandelt ein oft verdrängtes Thema.
URL:https://freizeit.hildesheimer-allgemeine.de/veranstaltungskalender/premieren-tipp-woistemily/2026-04-24/
LOCATION:TfN
CATEGORIES:Bühne,Kinder
ATTACH;FMTTYPE=image/jpeg:https://freizeit.hildesheimer-allgemeine.de/wp-content/uploads/2023/09/Logo-Tfn.jpg
END:VEVENT
BEGIN:VEVENT
DTSTART;TZID=Europe/Berlin:20260424T110000
DTEND;TZID=Europe/Berlin:20260424T110000
DTSTAMP:20260422T063004
CREATED:20251125T132648Z
LAST-MODIFIED:20251125T132648Z
UID:144814-1777028400-1777028400@freizeit.hildesheimer-allgemeine.de
SUMMARY:Bühnen-Tipp: #woistemily?
DESCRIPTION:Emily ist verschwunden. Sie ist nicht erreichbar. Niemand hat sie gesehen. Eine Schulsozialarbeiterin sucht nach ihr und trifft auf Widerstände. Das Stück erzählt spannend\, humorvoll und berührend von einer Jugendlichen\, die zu viel Verantwortung tragen musste und behandelt ein oft verdrängtes Thema.
URL:https://freizeit.hildesheimer-allgemeine.de/veranstaltungskalender/premieren-tipp-woistemily/2026-04-24/2/
LOCATION:TfN
CATEGORIES:Bühne,Kinder
ATTACH;FMTTYPE=image/jpeg:https://freizeit.hildesheimer-allgemeine.de/wp-content/uploads/2023/09/Logo-Tfn.jpg
END:VEVENT
BEGIN:VEVENT
DTSTART;TZID=Europe/Berlin:20260424T110000
DTEND;TZID=Europe/Berlin:20260424T110000
DTSTAMP:20260422T063004
CREATED:20260417T124359Z
LAST-MODIFIED:20260417T124359Z
UID:144833-1777028400-1777028400@freizeit.hildesheimer-allgemeine.de
SUMMARY:Geschenk*t – das Musikmobil jubiliert
DESCRIPTION:
URL:https://freizeit.hildesheimer-allgemeine.de/veranstaltungskalender/geschenkt-das-musikmobil-jubiliert/
LOCATION:AWO Trialog Alfeld\, Kalandstr. 3\, Alfeld\, Deutschland
CATEGORIES:Musik
ATTACH;FMTTYPE=image/jpeg:https://freizeit.hildesheimer-allgemeine.de/wp-content/uploads/2016/12/awo-trialog.jpg
GEO:51.9877181;9.8297432
X-APPLE-STRUCTURED-LOCATION;VALUE=URI;X-ADDRESS=AWO Trialog Alfeld Kalandstr. 3 Alfeld Deutschland;X-APPLE-RADIUS=500;X-TITLE=Kalandstr. 3:geo:9.8297432,51.9877181
END:VEVENT
BEGIN:VEVENT
DTSTART;TZID=Europe/Berlin:20260424T140000
DTEND;TZID=Europe/Berlin:20260424T140000
DTSTAMP:20260422T063004
CREATED:20260216T154127Z
LAST-MODIFIED:20260216T154127Z
UID:144420-1777039200-1777039200@freizeit.hildesheimer-allgemeine.de
SUMMARY:Hildesheim zum Kennenlernen
DESCRIPTION:Stadtführung
URL:https://freizeit.hildesheimer-allgemeine.de/veranstaltungskalender/hildesheim-zum-kennenlernen-16/2026-04-24/
LOCATION:Treffpunkt Touristinformation\, Hildesheim
CATEGORIES:Sonstige
ATTACH;FMTTYPE=image/jpeg:https://freizeit.hildesheimer-allgemeine.de/wp-content/uploads/2023/06/Info-Button.jpg
END:VEVENT
BEGIN:VEVENT
DTSTART;TZID=Europe/Berlin:20260424T150000
DTEND;TZID=Europe/Berlin:20260424T150000
DTSTAMP:20260422T063004
CREATED:20251020T110737Z
LAST-MODIFIED:20251020T110737Z
UID:144298-1777042800-1777042800@freizeit.hildesheimer-allgemeine.de
SUMMARY:Öffentliche Führungen im Dom
DESCRIPTION:Das Domfoyer ist montags\, bis einschließlich 31.03.2026\, geschlossen. Am 07.04.2026 öffnet das Foyer\, wegen einer internen Veranstaltung\, um 11:00 Uhr.
URL:https://freizeit.hildesheimer-allgemeine.de/veranstaltungskalender/oeffentliche-fuehrungen-im-dom/2026-04-24/
LOCATION:Dom Hildesheim\, dom-information@bistum-hildesheim.de / Domhof 9\, Hildesheim\, 31134\, Deutschland
CATEGORIES:Ausstellung,Lesung & Vortrag
ATTACH;FMTTYPE=image/jpeg:https://freizeit.hildesheimer-allgemeine.de/wp-content/uploads/2018/06/dom2.jpg
GEO:52.1481803;9.9471323
X-APPLE-STRUCTURED-LOCATION;VALUE=URI;X-ADDRESS=Dom Hildesheim dom-information@bistum-hildesheim.de / Domhof 9 Hildesheim 31134 Deutschland;X-APPLE-RADIUS=500;X-TITLE=dom-information@bistum-hildesheim.de / Domhof 9:geo:9.9471323,52.1481803
END:VEVENT
BEGIN:VEVENT
DTSTART;TZID=Europe/Berlin:20260424T150000
DTEND;TZID=Europe/Berlin:20260424T150000
DTSTAMP:20260422T063004
CREATED:20260417T121227Z
LAST-MODIFIED:20260417T121227Z
UID:144805-1777042800-1777042800@freizeit.hildesheimer-allgemeine.de
SUMMARY:10 Jahre Hildesheimer Braumanufaktur
DESCRIPTION:Bier\, Kulinarisches und Musik
URL:https://freizeit.hildesheimer-allgemeine.de/veranstaltungskalender/10-jahre-hildesheimer-braumanufaktur/2026-04-24/
LOCATION:Hildesheimer Braumanufaktur\, Goslarsche Landstraße 15\, Hildesheim\, Deutschland
CATEGORIES:Musik,Sonstige
ATTACH;FMTTYPE=image/jpeg:https://freizeit.hildesheimer-allgemeine.de/wp-content/uploads/2022/11/hildesheimer-braumanufaktur.jpg
GEO:52.15172;9.97048
X-APPLE-STRUCTURED-LOCATION;VALUE=URI;X-ADDRESS=Hildesheimer Braumanufaktur Goslarsche Landstraße 15 Hildesheim Deutschland;X-APPLE-RADIUS=500;X-TITLE=Goslarsche Landstraße 15:geo:9.97048,52.15172
END:VEVENT
BEGIN:VEVENT
DTSTART;TZID=Europe/Berlin:20260424T160000
DTEND;TZID=Europe/Berlin:20260424T160000
DTSTAMP:20260422T063004
CREATED:20251201T142133Z
LAST-MODIFIED:20260327T133839Z
UID:141955-1777046400-1777046400@freizeit.hildesheimer-allgemeine.de
SUMMARY:Kulinarische Zeitreise
DESCRIPTION:Stadtführung
URL:https://freizeit.hildesheimer-allgemeine.de/veranstaltungskalender/kulinarische-zeitreise-3/
LOCATION:Treffpunkt Touristinformation\, Hildesheim
CATEGORIES:Sonstige
ATTACH;FMTTYPE=image/jpeg:https://freizeit.hildesheimer-allgemeine.de/wp-content/uploads/2023/06/Info-Button.jpg
END:VEVENT
BEGIN:VEVENT
DTSTART;TZID=Europe/Berlin:20260424T170000
DTEND;TZID=Europe/Berlin:20260424T170000
DTSTAMP:20260422T063004
CREATED:20260130T155450Z
LAST-MODIFIED:20260130T155450Z
UID:144608-1777050000-1777050000@freizeit.hildesheimer-allgemeine.de
SUMMARY:Klettern für Menschen mit Beeinträchtigung
DESCRIPTION:Anmeldung an kletternkannjeder@dav-hildesheim.de
URL:https://freizeit.hildesheimer-allgemeine.de/veranstaltungskalender/klettern-fuer-menschen-mit-beeintraechtigung-9/2026-04-24/
LOCATION:Kletterzentrum Hiclimb\, Lerchenkamp 52\, Hildesheim\, Deutschland
CATEGORIES:Sonstige,Sport
ATTACH;FMTTYPE=image/jpeg:https://freizeit.hildesheimer-allgemeine.de/wp-content/uploads/2016/08/Freizeitsport_Klette_46294902-e1706009915854.jpeg
GEO:52.1724681;9.9435319
X-APPLE-STRUCTURED-LOCATION;VALUE=URI;X-ADDRESS=Kletterzentrum Hiclimb Lerchenkamp 52 Hildesheim Deutschland;X-APPLE-RADIUS=500;X-TITLE=Lerchenkamp 52:geo:9.9435319,52.1724681
END:VEVENT
BEGIN:VEVENT
DTSTART;TZID=Europe/Berlin:20260424T190000
DTEND;TZID=Europe/Berlin:20260424T190000
DTSTAMP:20260422T063004
CREATED:20260325T094341Z
LAST-MODIFIED:20260325T094341Z
UID:144829-1777057200-1777057200@freizeit.hildesheimer-allgemeine.de
SUMMARY:Performance-Tipp: The Mad Ones
DESCRIPTION:Im Zentrum ist Samantha Brown\, die nach dem plötzlichen Tod ihrer besten Freundin Kelly an einem Wendepunkt ihres Lebens steht. Statt klassischer Musical-Muster erzählt das Stück von Freundschaft\, Verlust\, Selbstfindung und der Frage\, ob man den Erwartungen anderer folgt oder den Mut hat\, einen eigenen Weg einzuschlagen.
URL:https://freizeit.hildesheimer-allgemeine.de/veranstaltungskalender/performance-tipp-the-mad-ones/2026-04-24/
LOCATION:Theaterhaus Hildesheim\, Langer Garten 23C\, Hildesheim\, 31137\, Deutschland
CATEGORIES:Bühne
ATTACH;FMTTYPE=image/jpeg:https://freizeit.hildesheimer-allgemeine.de/wp-content/uploads/2017/08/bühne.jpeg
GEO:52.16282;9.96087
X-APPLE-STRUCTURED-LOCATION;VALUE=URI;X-ADDRESS=Theaterhaus Hildesheim Langer Garten 23C Hildesheim 31137 Deutschland;X-APPLE-RADIUS=500;X-TITLE=Langer Garten 23C:geo:9.96087,52.16282
END:VEVENT
BEGIN:VEVENT
DTSTART;TZID=Europe/Berlin:20260424T190000
DTEND;TZID=Europe/Berlin:20260424T190000
DTSTAMP:20260422T063004
CREATED:20260417T123846Z
LAST-MODIFIED:20260417T123846Z
UID:144825-1777057200-1777057200@freizeit.hildesheimer-allgemeine.de
SUMMARY:Die Panikstörung – episodisch\, anfallsartig auftretende Angstattacken
DESCRIPTION:Diagnose\, mögliche Ursachen und Behandlungswege\, Vortrag
URL:https://freizeit.hildesheimer-allgemeine.de/veranstaltungskalender/die-panikstoerung-episodisch-anfallsartig-auftretende-angstattacken/
LOCATION:Stadtbibliothek\, stadtbibliothek@stadt-hildesheim.de / Scheelenstr. 26\, Hildesheim\, 31134\, Deutschland
CATEGORIES:Lesung & Vortrag
ATTACH;FMTTYPE=image/jpeg:https://freizeit.hildesheimer-allgemeine.de/wp-content/uploads/2016/08/lesung-1.jpg
GEO:52.15228;9.95176
X-APPLE-STRUCTURED-LOCATION;VALUE=URI;X-ADDRESS=Stadtbibliothek stadtbibliothek@stadt-hildesheim.de / Scheelenstr. 26 Hildesheim 31134 Deutschland;X-APPLE-RADIUS=500;X-TITLE=stadtbibliothek@stadt-hildesheim.de / Scheelenstr. 26:geo:9.95176,52.15228
END:VEVENT
BEGIN:VEVENT
DTSTART;TZID=Europe/Berlin:20260424T190000
DTEND;TZID=Europe/Berlin:20260424T190000
DTSTAMP:20260422T063004
CREATED:20260417T123949Z
LAST-MODIFIED:20260417T123949Z
UID:144827-1777057200-1777057200@freizeit.hildesheimer-allgemeine.de
SUMMARY:Ausstellung: Zwischen Blau und weiter
DESCRIPTION:
URL:https://freizeit.hildesheimer-allgemeine.de/veranstaltungskalender/ausstellung-zwischen-blau-und-weiter/
LOCATION:Das Glashaus\, Schlossstraße 17\, Holle\, 31188\, United States
CATEGORIES:Ausstellung
ATTACH;FMTTYPE=image/jpeg:https://freizeit.hildesheimer-allgemeine.de/wp-content/uploads/2016/08/Ausstellung.jpg
END:VEVENT
BEGIN:VEVENT
DTSTART;TZID=Europe/Berlin:20260424T193000
DTEND;TZID=Europe/Berlin:20260424T193000
DTSTAMP:20260422T063004
CREATED:20260417T124703Z
LAST-MODIFIED:20260417T124703Z
UID:144839-1777059000-1777059000@freizeit.hildesheimer-allgemeine.de
SUMMARY:Thommy Ten & Amelie van Tass
DESCRIPTION:Mentalmagie
URL:https://freizeit.hildesheimer-allgemeine.de/veranstaltungskalender/thommy-ten-amelie-van-tass/
LOCATION:Theater am Aegi\, info@theater-am-aegi.de / Aegidientorplatz 2\, Hannover\, 30159\, Deutschland
CATEGORIES:Bühne
ATTACH;FMTTYPE=image/png:https://freizeit.hildesheimer-allgemeine.de/wp-content/uploads/2026/02/Aegi-Logo.png
GEO:52.3677171;9.7431545
X-APPLE-STRUCTURED-LOCATION;VALUE=URI;X-ADDRESS=Theater am Aegi info@theater-am-aegi.de / Aegidientorplatz 2 Hannover 30159 Deutschland;X-APPLE-RADIUS=500;X-TITLE=info@theater-am-aegi.de / Aegidientorplatz 2:geo:9.7431545,52.3677171
END:VEVENT
BEGIN:VEVENT
DTSTART;TZID=Europe/Berlin:20260424T200000
DTEND;TZID=Europe/Berlin:20260424T200000
DTSTAMP:20260422T063004
CREATED:20260327T104305Z
LAST-MODIFIED:20260417T124056Z
UID:144496-1777060800-1777060800@freizeit.hildesheimer-allgemeine.de
SUMMARY:Schmidt‘s Katzen
DESCRIPTION:Improtheater
URL:https://freizeit.hildesheimer-allgemeine.de/veranstaltungskalender/schmidts-katzen-3/
LOCATION:Kulturfabrik Löseke\, kontakt@kufa.info / Langer Garten 1\, Hildesheim\, 31137\, Deutschland
CATEGORIES:Bühne
ATTACH;FMTTYPE=image/jpeg:https://freizeit.hildesheimer-allgemeine.de/wp-content/uploads/2017/08/bühne.jpeg
END:VEVENT
BEGIN:VEVENT
DTSTART;TZID=Europe/Berlin:20260424T200000
DTEND;TZID=Europe/Berlin:20260424T200000
DTSTAMP:20260422T063004
CREATED:20260417T124501Z
LAST-MODIFIED:20260417T124501Z
UID:144835-1777060800-1777060800@freizeit.hildesheimer-allgemeine.de
SUMMARY:Thav rockt: First Law + Inherit Curse
DESCRIPTION:Hardcore
URL:https://freizeit.hildesheimer-allgemeine.de/veranstaltungskalender/thav-rockt-first-law-inherit-curse/
LOCATION:Thav\, thav@kneipe-ohne-fenster.de / Güntherstraße 21\, Hildesheim\, 31134\, Deutschland
CATEGORIES:Musik
ATTACH;FMTTYPE=image/jpeg:https://freizeit.hildesheimer-allgemeine.de/wp-content/uploads/2016/08/musik2.jpg
END:VEVENT
BEGIN:VEVENT
DTSTART;TZID=Europe/Berlin:20260424T200000
DTEND;TZID=Europe/Berlin:20260424T200000
DTSTAMP:20260422T063004
CREATED:20260417T124604Z
LAST-MODIFIED:20260417T124604Z
UID:144837-1777060800-1777060800@freizeit.hildesheimer-allgemeine.de
SUMMARY:Mia.
DESCRIPTION:Pop\, Rock
URL:https://freizeit.hildesheimer-allgemeine.de/veranstaltungskalender/mia-2/
LOCATION:Capitol\, info@capitol-hannover.de / Schwarzer Bär 2\, Hannover\, 30449\, Deutschland
CATEGORIES:Musik
ATTACH;FMTTYPE=image/jpeg:https://freizeit.hildesheimer-allgemeine.de/wp-content/uploads/2016/08/capitol3-1-e1505900258145.jpg
GEO:52.3684144;9.7203574
X-APPLE-STRUCTURED-LOCATION;VALUE=URI;X-ADDRESS=Capitol info@capitol-hannover.de / Schwarzer Bär 2 Hannover 30449 Deutschland;X-APPLE-RADIUS=500;X-TITLE=info@capitol-hannover.de / Schwarzer Bär 2:geo:9.7203574,52.3684144
END:VEVENT
BEGIN:VEVENT
DTSTART;TZID=Europe/Berlin:20260424T200000
DTEND;TZID=Europe/Berlin:20260424T200000
DTSTAMP:20260422T063004
CREATED:20260417T124815Z
LAST-MODIFIED:20260417T124815Z
UID:144841-1777060800-1777060800@freizeit.hildesheimer-allgemeine.de
SUMMARY:Olaf Schubert & seine Freunde
DESCRIPTION:Kabarett
URL:https://freizeit.hildesheimer-allgemeine.de/veranstaltungskalender/olaf-schubert-seine-freunde/
LOCATION:Swiss Life Hall\, info@music-and-sports-hall.de / Ferdinand-Wilhelm-Fricke-Weg 8\, Hannover\, 30169\, Deutschland
CATEGORIES:Bühne
ATTACH;FMTTYPE=image/png:https://freizeit.hildesheimer-allgemeine.de/wp-content/uploads/2017/09/Swiss-life-hall.png
GEO:52.35668;9.73044
X-APPLE-STRUCTURED-LOCATION;VALUE=URI;X-ADDRESS=Swiss Life Hall info@music-and-sports-hall.de / Ferdinand-Wilhelm-Fricke-Weg 8 Hannover 30169 Deutschland;X-APPLE-RADIUS=500;X-TITLE=info@music-and-sports-hall.de / Ferdinand-Wilhelm-Fricke-Weg 8:geo:9.73044,52.35668
END:VEVENT
BEGIN:VEVENT
DTSTART;TZID=Europe/Berlin:20260424T200000
DTEND;TZID=Europe/Berlin:20260424T200000
DTSTAMP:20260422T063004
CREATED:20260417T124910Z
LAST-MODIFIED:20260417T124910Z
UID:144843-1777060800-1777060800@freizeit.hildesheimer-allgemeine.de
SUMMARY:Luca Noel
DESCRIPTION:Indie-Pop
URL:https://freizeit.hildesheimer-allgemeine.de/veranstaltungskalender/luca-noel-3/
LOCATION:Bei Chéz Heinz\, post@beichezheinz.de / Liepmannstraße 7\, Hannover\, 30453\, Deutschland
CATEGORIES:Musik
ATTACH;FMTTYPE=image/jpeg:https://freizeit.hildesheimer-allgemeine.de/wp-content/uploads/2022/11/bei-chez-heinz.jpg
GEO:52.37179;9.69762
X-APPLE-STRUCTURED-LOCATION;VALUE=URI;X-ADDRESS=Bei Chéz Heinz post@beichezheinz.de / Liepmannstraße 7 Hannover 30453 Deutschland;X-APPLE-RADIUS=500;X-TITLE=post@beichezheinz.de / Liepmannstraße 7:geo:9.69762,52.37179
END:VEVENT
BEGIN:VEVENT
DTSTART;TZID=Europe/Berlin:20260424T200000
DTEND;TZID=Europe/Berlin:20260424T200000
DTSTAMP:20260422T063004
CREATED:20260417T125022Z
LAST-MODIFIED:20260417T125022Z
UID:144845-1777060800-1777060800@freizeit.hildesheimer-allgemeine.de
SUMMARY:grim104
DESCRIPTION:Rap
URL:https://freizeit.hildesheimer-allgemeine.de/veranstaltungskalender/grim104/
LOCATION:Faust\, faust@kulturzentrum-faust.de / Zur Bettfedernfabrik 3\, Hannover\, 30451\, Deutschland
CATEGORIES:Musik
ATTACH;FMTTYPE=image/png:https://freizeit.hildesheimer-allgemeine.de/wp-content/uploads/2016/11/faust.png
GEO:52.3759084;9.7106334
X-APPLE-STRUCTURED-LOCATION;VALUE=URI;X-ADDRESS=Faust faust@kulturzentrum-faust.de / Zur Bettfedernfabrik 3 Hannover 30451 Deutschland;X-APPLE-RADIUS=500;X-TITLE=faust@kulturzentrum-faust.de / Zur Bettfedernfabrik 3:geo:9.7106334,52.3759084
END:VEVENT
BEGIN:VEVENT
DTSTART;TZID=Europe/Berlin:20260424T210000
DTEND;TZID=Europe/Berlin:20260424T210000
DTSTAMP:20260422T063004
CREATED:20250320T150658Z
LAST-MODIFIED:20250320T150658Z
UID:144607-1777064400-1777064400@freizeit.hildesheimer-allgemeine.de
SUMMARY:Schüttel dein Heck
DESCRIPTION:
URL:https://freizeit.hildesheimer-allgemeine.de/veranstaltungskalender/schuettel-dein-heck-3/2026-04-24/
LOCATION:LitteraNova\, marco-vegas@web.de / Wallstraße 12a\, Hildesheim\, 31134\, Deutschland
CATEGORIES:Party
ATTACH;FMTTYPE=image/jpeg:https://freizeit.hildesheimer-allgemeine.de/wp-content/uploads/2016/08/party.jpg
END:VEVENT
END:VCALENDAR