BEGIN:VCALENDAR
VERSION:2.0
PRODID:-//Freizeit - ECPv6.15.4//NONSGML v1.0//EN
CALSCALE:GREGORIAN
METHOD:PUBLISH
X-WR-CALNAME:Freizeit
X-ORIGINAL-URL:https://freizeit.hildesheimer-allgemeine.de
X-WR-CALDESC:Veranstaltungen im Freizeit
REFRESH-INTERVAL;VALUE=DURATION:PT1H
X-Robots-Tag:noindex
X-PUBLISHED-TTL:PT1H
BEGIN:VTIMEZONE
TZID:Europe/Berlin
BEGIN:DAYLIGHT
TZOFFSETFROM:+0100
TZOFFSETTO:+0200
TZNAME:CEST
DTSTART:20260329T010000
END:DAYLIGHT
BEGIN:STANDARD
TZOFFSETFROM:+0200
TZOFFSETTO:+0100
TZNAME:CET
DTSTART:20261025T010000
END:STANDARD
END:VTIMEZONE
BEGIN:VEVENT
DTSTART;TZID=Europe/Berlin:20260422T170000
DTEND;TZID=Europe/Berlin:20260422T170000
DTSTAMP:20260422T023559
CREATED:20251201T155153Z
LAST-MODIFIED:20251201T155153Z
UID:144604-1776877200-1776877200@freizeit.hildesheimer-allgemeine.de
SUMMARY:Yoga im Museum
DESCRIPTION:
URL:https://freizeit.hildesheimer-allgemeine.de/veranstaltungskalender/yoga-im-museum-2/2026-04-22/
LOCATION:Roemer- und Pelizaeus Museum\, Am Steine 1-2\, Hildesheim\, 31134\, Deutschland
CATEGORIES:Sonstige,Sport
ATTACH;FMTTYPE=image/jpeg:https://freizeit.hildesheimer-allgemeine.de/wp-content/uploads/2017/12/yoga.jpg
GEO:52.1489147;9.9441182
X-APPLE-STRUCTURED-LOCATION;VALUE=URI;X-ADDRESS=Roemer- und Pelizaeus Museum Am Steine 1-2 Hildesheim 31134 Deutschland;X-APPLE-RADIUS=500;X-TITLE=Am Steine 1-2:geo:9.9441182,52.1489147
END:VEVENT
BEGIN:VEVENT
DTSTART;TZID=Europe/Berlin:20260422T180000
DTEND;TZID=Europe/Berlin:20260422T180000
DTSTAMP:20260422T023559
CREATED:20250902T094022Z
LAST-MODIFIED:20250902T094022Z
UID:144361-1776880800-1776880800@freizeit.hildesheimer-allgemeine.de
SUMMARY:Lauftreff
DESCRIPTION:Bündnis gegen Depressionen
URL:https://freizeit.hildesheimer-allgemeine.de/veranstaltungskalender/lauftreff/2026-04-22/
LOCATION:Treffpunkt: Hohnsensee Parkplatz
CATEGORIES:Sonstige,Sport
ATTACH;FMTTYPE=image/jpeg:https://freizeit.hildesheimer-allgemeine.de/wp-content/uploads/2020/01/sport.jpg
END:VEVENT
BEGIN:VEVENT
DTSTART;TZID=Europe/Berlin:20260422T193000
DTEND;TZID=Europe/Berlin:20260422T193000
DTSTAMP:20260422T023559
CREATED:20260123T110841Z
LAST-MODIFIED:20260417T120425Z
UID:143047-1776886200-1776886200@freizeit.hildesheimer-allgemeine.de
SUMMARY:Farm der Tiere
DESCRIPTION:Musical \nEinführung 18.50 Uhr
URL:https://freizeit.hildesheimer-allgemeine.de/veranstaltungskalender/farm-der-tiere-2/
LOCATION:TfN
CATEGORIES:Bühne
ATTACH;FMTTYPE=image/jpeg:https://freizeit.hildesheimer-allgemeine.de/wp-content/uploads/2023/09/Logo-Tfn.jpg
END:VEVENT
BEGIN:VEVENT
DTSTART;TZID=Europe/Berlin:20260422T200000
DTEND;TZID=Europe/Berlin:20260422T200000
DTSTAMP:20260422T023559
CREATED:20260212T152212Z
LAST-MODIFIED:20260212T152212Z
UID:144366-1776888000-1776888000@freizeit.hildesheimer-allgemeine.de
SUMMARY:SoKü - die SoliKüche
DESCRIPTION:Die SoliKüche kocht vegan.
URL:https://freizeit.hildesheimer-allgemeine.de/veranstaltungskalender/sokue-die-solikueche/2026-04-22/
LOCATION:Kulturfabrik Löseke\, kontakt@kufa.info / Langer Garten 1\, Hildesheim\, 31137\, Deutschland
CATEGORIES:Sonstige,Workshop
ATTACH;FMTTYPE=image/jpeg:https://freizeit.hildesheimer-allgemeine.de/wp-content/uploads/2017/04/feu-22-Kulturf_500-e1551794035363.jpg
END:VEVENT
BEGIN:VEVENT
DTSTART;TZID=Europe/Berlin:20260422T200000
DTEND;TZID=Europe/Berlin:20260422T200000
DTSTAMP:20260422T023559
CREATED:20260417T120725Z
LAST-MODIFIED:20260417T120725Z
UID:144798-1776888000-1776888000@freizeit.hildesheimer-allgemeine.de
SUMMARY:Michael Schulte
DESCRIPTION:Pop
URL:https://freizeit.hildesheimer-allgemeine.de/veranstaltungskalender/michael-schulte-4/
LOCATION:Theater am Aegi\, info@theater-am-aegi.de / Aegidientorplatz 2\, Hannover\, 30159\, Deutschland
CATEGORIES:Musik
ATTACH;FMTTYPE=image/png:https://freizeit.hildesheimer-allgemeine.de/wp-content/uploads/2026/02/Aegi-Logo.png
GEO:52.3677171;9.7431545
X-APPLE-STRUCTURED-LOCATION;VALUE=URI;X-ADDRESS=Theater am Aegi info@theater-am-aegi.de / Aegidientorplatz 2 Hannover 30159 Deutschland;X-APPLE-RADIUS=500;X-TITLE=info@theater-am-aegi.de / Aegidientorplatz 2:geo:9.7431545,52.3677171
END:VEVENT
BEGIN:VEVENT
DTSTART;TZID=Europe/Berlin:20260422T200000
DTEND;TZID=Europe/Berlin:20260422T200000
DTSTAMP:20260422T023559
CREATED:20260417T120920Z
LAST-MODIFIED:20260417T120920Z
UID:144802-1776888000-1776888000@freizeit.hildesheimer-allgemeine.de
SUMMARY:Kasalla
DESCRIPTION:Rock
URL:https://freizeit.hildesheimer-allgemeine.de/veranstaltungskalender/kasalla-2/
LOCATION:Capitol\, info@capitol-hannover.de / Schwarzer Bär 2\, Hannover\, 30449\, Deutschland
ATTACH;FMTTYPE=image/jpeg:https://freizeit.hildesheimer-allgemeine.de/wp-content/uploads/2016/08/capitol3-1-e1505900258145.jpg
GEO:52.3684144;9.7203574
X-APPLE-STRUCTURED-LOCATION;VALUE=URI;X-ADDRESS=Capitol info@capitol-hannover.de / Schwarzer Bär 2 Hannover 30449 Deutschland;X-APPLE-RADIUS=500;X-TITLE=info@capitol-hannover.de / Schwarzer Bär 2:geo:9.7203574,52.3684144
END:VEVENT
BEGIN:VEVENT
DTSTART;TZID=Europe/Berlin:20260422T210000
DTEND;TZID=Europe/Berlin:20260422T210000
DTSTAMP:20260422T023559
CREATED:20260417T120543Z
LAST-MODIFIED:20260417T120543Z
UID:144796-1776891600-1776891600@freizeit.hildesheimer-allgemeine.de
SUMMARY:Club VEB: Grandma's Ashes + Carson
DESCRIPTION:Alternative Goth-Rock und Stoner-Rock
URL:https://freizeit.hildesheimer-allgemeine.de/veranstaltungskalender/club-veb-grandmas-ashes-carson/
LOCATION:Kulturfabrik Löseke\, kontakt@kufa.info / Langer Garten 1\, Hildesheim\, 31137\, Deutschland
CATEGORIES:Musik
ATTACH;FMTTYPE=image/jpeg:https://freizeit.hildesheimer-allgemeine.de/wp-content/uploads/2017/04/feu-22-Kulturf_500-e1551794035363.jpg
END:VEVENT
BEGIN:VEVENT
DTSTART;TZID=Europe/Berlin:20260422T220000
DTEND;TZID=Europe/Berlin:20260422T220000
DTSTAMP:20260422T023559
CREATED:20260417T120822Z
LAST-MODIFIED:20260417T120822Z
UID:144800-1776895200-1776895200@freizeit.hildesheimer-allgemeine.de
SUMMARY:Michael Patrick Kelly
DESCRIPTION:Singer-Songwriter
URL:https://freizeit.hildesheimer-allgemeine.de/veranstaltungskalender/michael-patrick-kelly-2/
LOCATION:ZAG Arena/Hannover\, Deutschland
CATEGORIES:Musik
ATTACH;FMTTYPE=image/jpeg:https://freizeit.hildesheimer-allgemeine.de/wp-content/uploads/2016/08/musik2.jpg
END:VEVENT
END:VCALENDAR