BEGIN:VCALENDAR
VERSION:2.0
PRODID:-//Freizeit - ECPv6.15.4//NONSGML v1.0//EN
CALSCALE:GREGORIAN
METHOD:PUBLISH
X-WR-CALNAME:Freizeit
X-ORIGINAL-URL:https://freizeit.hildesheimer-allgemeine.de
X-WR-CALDESC:Veranstaltungen im Freizeit
REFRESH-INTERVAL;VALUE=DURATION:PT1H
X-Robots-Tag:noindex
X-PUBLISHED-TTL:PT1H
BEGIN:VTIMEZONE
TZID:Europe/Berlin
BEGIN:DAYLIGHT
TZOFFSETFROM:+0100
TZOFFSETTO:+0200
TZNAME:CEST
DTSTART:20260329T010000
END:DAYLIGHT
BEGIN:STANDARD
TZOFFSETFROM:+0200
TZOFFSETTO:+0100
TZNAME:CET
DTSTART:20261025T010000
END:STANDARD
END:VTIMEZONE
BEGIN:VEVENT
DTSTART;TZID=Europe/Berlin:20260423T150000
DTEND;TZID=Europe/Berlin:20260423T150000
DTSTAMP:20260421T073923
CREATED:20260417T121227Z
LAST-MODIFIED:20260417T121227Z
UID:144804-1776956400-1776956400@freizeit.hildesheimer-allgemeine.de
SUMMARY:10 Jahre Hildesheimer Braumanufaktur
DESCRIPTION:Bier\, Kulinarisches und Musik
URL:https://freizeit.hildesheimer-allgemeine.de/veranstaltungskalender/10-jahre-hildesheimer-braumanufaktur/2026-04-23/
LOCATION:Hildesheimer Braumanufaktur\, Goslarsche Landstraße 15\, Hildesheim\, Deutschland
CATEGORIES:Musik,Sonstige
ATTACH;FMTTYPE=image/jpeg:https://freizeit.hildesheimer-allgemeine.de/wp-content/uploads/2022/11/hildesheimer-braumanufaktur.jpg
GEO:52.15172;9.97048
X-APPLE-STRUCTURED-LOCATION;VALUE=URI;X-ADDRESS=Hildesheimer Braumanufaktur Goslarsche Landstraße 15 Hildesheim Deutschland;X-APPLE-RADIUS=500;X-TITLE=Goslarsche Landstraße 15:geo:9.97048,52.15172
END:VEVENT
BEGIN:VEVENT
DTSTART;TZID=Europe/Berlin:20260424T150000
DTEND;TZID=Europe/Berlin:20260424T150000
DTSTAMP:20260421T073923
CREATED:20260417T121227Z
LAST-MODIFIED:20260417T121227Z
UID:144805-1777042800-1777042800@freizeit.hildesheimer-allgemeine.de
SUMMARY:10 Jahre Hildesheimer Braumanufaktur
DESCRIPTION:Bier\, Kulinarisches und Musik
URL:https://freizeit.hildesheimer-allgemeine.de/veranstaltungskalender/10-jahre-hildesheimer-braumanufaktur/2026-04-24/
LOCATION:Hildesheimer Braumanufaktur\, Goslarsche Landstraße 15\, Hildesheim\, Deutschland
CATEGORIES:Musik,Sonstige
ATTACH;FMTTYPE=image/jpeg:https://freizeit.hildesheimer-allgemeine.de/wp-content/uploads/2022/11/hildesheimer-braumanufaktur.jpg
GEO:52.15172;9.97048
X-APPLE-STRUCTURED-LOCATION;VALUE=URI;X-ADDRESS=Hildesheimer Braumanufaktur Goslarsche Landstraße 15 Hildesheim Deutschland;X-APPLE-RADIUS=500;X-TITLE=Goslarsche Landstraße 15:geo:9.97048,52.15172
END:VEVENT
BEGIN:VEVENT
DTSTART;TZID=Europe/Berlin:20260425T150000
DTEND;TZID=Europe/Berlin:20260425T150000
DTSTAMP:20260421T073923
CREATED:20260417T121227Z
LAST-MODIFIED:20260417T121227Z
UID:144806-1777129200-1777129200@freizeit.hildesheimer-allgemeine.de
SUMMARY:10 Jahre Hildesheimer Braumanufaktur
DESCRIPTION:Bier\, Kulinarisches und Musik
URL:https://freizeit.hildesheimer-allgemeine.de/veranstaltungskalender/10-jahre-hildesheimer-braumanufaktur/2026-04-25/
LOCATION:Hildesheimer Braumanufaktur\, Goslarsche Landstraße 15\, Hildesheim\, Deutschland
CATEGORIES:Musik,Sonstige
ATTACH;FMTTYPE=image/jpeg:https://freizeit.hildesheimer-allgemeine.de/wp-content/uploads/2022/11/hildesheimer-braumanufaktur.jpg
GEO:52.15172;9.97048
X-APPLE-STRUCTURED-LOCATION;VALUE=URI;X-ADDRESS=Hildesheimer Braumanufaktur Goslarsche Landstraße 15 Hildesheim Deutschland;X-APPLE-RADIUS=500;X-TITLE=Goslarsche Landstraße 15:geo:9.97048,52.15172
END:VEVENT
END:VCALENDAR